BEGIN:VCALENDAR
VERSION:2.0
PRODID:-//ChamberMaster//Event Calendar 2.0//EN
METHOD:PUBLISH
X-PUBLISHED-TTL:P3D
REFRESH-INTERVAL:P3D
CALSCALE:GREGORIAN
BEGIN:VEVENT
DTSTART:20131216T170000Z
DTEND:20131216T200000Z
X-MICROSOFT-CDO-ALLDAYEVENT:FALSE
SUMMARY:SANTA SPECIAL
DESCRIPTION:Santa rides the train with you and gives a special treat to each child! Tell him what you would like for Christmas and take photos with Santa! Tickets and info at www.HODRRM.org or 205-757-8383
X-ALT-DESC;FMTTYPE=text/html:Santa rides the train with you and gives a special treat to each child! Tell him what you would like for Christmas and take photos with Santa! Tickets and info at www.HODRRM.org or 205-757-8383 
LOCATION:Heart of Dixie Railroad Museum 1919 9th Street Calera\, AL 35040
UID:e.145.4765
SEQUENCE:3
DTSTAMP:20260424T002657Z
URL:https://business.shelbychamber.org/events/details/santa-special-12-16-2013-4765
END:VEVENT

END:VCALENDAR
