BEGIN:VCALENDAR
VERSION:2.0
PRODID:-//ChamberMaster//Event Calendar 2.0//EN
METHOD:PUBLISH
X-PUBLISHED-TTL:P3D
REFRESH-INTERVAL:P3D
CALSCALE:GREGORIAN
BEGIN:VEVENT
DTSTART:20111025T160000Z
DTEND:20111025T190000Z
X-MICROSOFT-CDO-ALLDAYEVENT:FALSE
SUMMARY:Sav-A-Life Shelby County & Btru2u - Christmas Shopping Opportunity
DESCRIPTION:Christmas Shopping Opportunity!\n\n\n\nSupport Btru2u while shopping for your friends and family!\n\n\n\nHow: Premier Designs Jewelry Sale\n\n\n\nWhen: Tuesday\, October 25th 11:00-2:00\n\n\n\nWhere: The Pregnancy Resource Center\n\n\n\nCoffee & Snacks provided!\n\n\n\nAll Sales go toward the purchase of Christmas Presents for the Btru2u girls!\n\n\n\nIf you can't make the sale you can still place an order that will benefit Btru2u!
X-ALT-DESC;FMTTYPE=text/html:<strong>Christmas Shopping Opportunity!</strong><br />\n<br />\nSupport <a href="http://savalifeshelby.org/index.php?option=com_k2&amp\;view=item&amp\;layout=item&amp\;id=14&amp\;Itemid=23">Btru2u</a> while shopping for your friends and family!<br />\n<br />\nHow: Premier Designs Jewelry Sale<br />\n<br />\nWhen: Tuesday\, October 25th 11:00-2:00<br />\n<br />\nWhere: The Pregnancy Resource Center<br />\n<br />\nCoffee &amp\; Snacks provided!<br />\n<br />\nAll Sales go toward the purchase of Christmas Presents for the <a href="http://savalifeshelby.org/index.php?option=com_k2&amp\;view=item&amp\;layout=item&amp\;id=14&amp\;Itemid=23">Btru2u</a> girls!<br />\n<br />\nIf you can&rsquo\;t make the sale you can still place an order that will benefit <a href="http://savalifeshelby.org/index.php?option=com_k2&amp\;view=item&amp\;layout=item&amp\;id=14&amp\;Itemid=23">Btru2u</a>!
LOCATION:Sav-A-Life Shelby Pregnancy Resource Center\, Pelham
UID:e.145.3542
SEQUENCE:3
DTSTAMP:20260425T183813Z
URL:https://business.shelbychamber.org/events/details/sav-a-life-shelby-county-btru2u-christmas-shopping-opportunity-10-25-2011-3542
END:VEVENT

END:VCALENDAR
