BEGIN:VCALENDAR
VERSION:2.0
PRODID:-//ChamberMaster//Event Calendar 2.0//EN
METHOD:PUBLISH
X-PUBLISHED-TTL:P3D
REFRESH-INTERVAL:P3D
CALSCALE:GREGORIAN
BEGIN:VEVENT
DTSTART;VALUE=DATE:20110617
DTEND;VALUE=DATE:20110619
TRANSP:TRANSPARENT
X-MICROSOFT-CDO-ALLDAYEVENT:TRUE
SUMMARY:SAV MOR Food Outlet Presents: The Great American Steak Roundup!
DESCRIPTION:SAV MOR Food Outlet Presents: The Great American Steak Roundup!\n\n\n\nFeaturing Great Steak Meals\, Deals\, & Even a Mechanical Bull!\n\n\n\nClick here for a printable flier!\n\n\n\nSav Mor will be serving $8 Steak Plates for the tornado victims of April 27th.\n\n\n\nSav More will be selling the lowest priced fresh steak cuts you'll find anywhere!\n\n\n\nPlus\, try your hand at Bullriding on our Sav Mor Mechanical Bull!\n\n\n\nFather's Day weekend -- June 17th & 18th.\n\n\n\nSav Mor Food Outlet\n\n11028 Highway 25 Calera AL 35040\n\n(205) 668-2315
X-ALT-DESC;FMTTYPE=text/html:<strong>SAV MOR Food Outlet Presents: The Great American Steak Roundup!<br />\n<br />\nFeaturing Great Steak Meals\, Deals\, &amp\; Even a Mechanical Bull!</strong><br />\n<br />\n<a href="http://cloud.chambermaster.com/userfiles/UserFiles/chambers/145/File/Community%20Events/SSRU_copy.jpg">Click here for a printable flier!</a><br />\n<br />\nSav Mor will be serving $8 Steak Plates for the tornado victims of April 27th.<br />\n<br />\nSav More will be selling the lowest priced fresh steak cuts you&#39\;ll find anywhere!<br />\n<br />\nPlus\, try your hand at Bullriding on our Sav Mor Mechanical Bull!<br />\n<br />\nFather&#39\;s Day weekend -- June 17th &amp\; 18th.<br />\n<br />\nSav Mor Food Outlet<br />\n11028 Highway 25 Calera AL 35040<br />\n(205) 668-2315
LOCATION:Sav Mor Food Outlet 11028 Highway 25 Calera AL 35040 (205) 668-2315
UID:e.145.3411
SEQUENCE:3
DTSTAMP:20260426T005926Z
URL:https://business.shelbychamber.org/events/details/sav-mor-food-outlet-presents-the-great-american-steak-roundup-06-17-2011-3411
END:VEVENT

END:VCALENDAR
