BEGIN:VCALENDAR
VERSION:2.0
PRODID:-//ChamberMaster//Event Calendar 2.0//EN
METHOD:PUBLISH
X-PUBLISHED-TTL:P3D
REFRESH-INTERVAL:P3D
CALSCALE:GREGORIAN
BEGIN:VEVENT
DTSTART:20161203T150000Z
DTEND:20161203T210000Z
X-MICROSOFT-CDO-ALLDAYEVENT:FALSE
SUMMARY:SCAC Annual Holiday Artist Market
DESCRIPTION:Join us for the Annual Holiday Artist Market at the SCAC! This is a great opportunity to check out some talented artists from around the area as well as get some of your holiday shopping done! The unique and handcrafted artwork ranges from pottery to painting\, gourd art\, printmaking\, and much much more!
X-ALT-DESC;FMTTYPE=text/html:Join us for the Annual Holiday Artist Market at the SCAC! This is a great opportunity to check out some talented artists from around the area as well as get some of your holiday shopping done! The unique and handcrafted artwork ranges from pottery to painting\, gourd art\, printmaking\, and much much more!
LOCATION:Shelby County Arts Council 104 Mildred Street Columbiana\, AL 35051
UID:e.145.9807
SEQUENCE:3
DTSTAMP:20260421T132633Z
URL:https://business.shelbychamber.org/events/details/scac-annual-holiday-artist-market-9807
END:VEVENT

END:VCALENDAR
