BEGIN:VCALENDAR
VERSION:2.0
PRODID:-//ChamberMaster//Event Calendar 2.0//EN
METHOD:PUBLISH
X-PUBLISHED-TTL:P3D
REFRESH-INTERVAL:P3D
CALSCALE:GREGORIAN
BEGIN:VEVENT
DTSTART:20130615T143000Z
DTEND:20130615T220000Z
X-MICROSOFT-CDO-ALLDAYEVENT:FALSE
SUMMARY:SCAC Donny Finley Painting Workshop
DESCRIPTION:Donny Finley Oil Painting Workshop\n						\n							 \n						\n							 \n					\n				\n			\n			\n				Presented by Shelby County Arts Council at Shelby County Arts Council Gallery\n			\n				June 15\, 2013\n			\n\n			\n				 \n			\n				Rare opportunity to take an intensive oil painting workshop from nationally recognized artist Donny Finley.  This workshop will include discussion on the Old Masters approach to painting and how modern day artists can implement this approach into their work.  Mr. Finley will share his own philosophy for painting and demonstrate techniques. *Student will receive one-on-one instruction *Bring you own paints and canvas.
X-ALT-DESC;FMTTYPE=text/html:<div id="spotlight_middle" style="margin: 0px\; padding: 0px\; border: 0px\; outline: 0px\; background-color: transparent\; width: 505px\; clear: both\; color: rgb(0\, 0\, 0)\; font-family: Arial\, Helvetica\, sans-serif\; line-height: 16px\;">\n	<div id="spotlight_left" style="margin: 0px\; padding: 0px 0px 0px 20px\; border: 0px\; outline: 0px\; background-image: url(http://www.birmingham365.org/images/widget/spotlight_left.gif)\; background-position: 0% 50%\; background-repeat: no-repeat repeat\;">\n		<div id="spotlight_right" style="margin: 0px\; padding: 3px 14px 3px 0px\; border: 0px\; outline: 0px\; background-image: url(http://www.birmingham365.org/images/widget/spotlight_right.gif)\; background-position: 100% 50%\; background-repeat: no-repeat repeat\;">\n			<h2 style="margin: 0px 0px 5px\; padding: 0px\; border: none\; outline: 0px\; font-size: 14px\; background-image: none\; line-height: 20px\; font-family: Verdana\, Arial\, Helvetica\, sans-serif\;">\n				&nbsp\;</h2>\n			<table style="margin: 0px\; padding: 0px\; border: 0px\; outline: 0px\; background-color: transparent\; border-collapse: collapse\; border-spacing: 0px\;">\n				<tbody style="margin: 0px\; padding: 0px\; border: 0px\; outline: 0px\; background-color: transparent\;">\n					<tr style="margin: 0px\; padding: 0px\; border: 0px\; outline: 0px\; background-color: transparent\;">\n						<td style="margin: 0px\; padding: 0px\; border: 0px\; outline: 0px\; background-color: transparent\;">\n							Donny Finley Oil Painting Workshop</td>\n						<td style="margin: 0px\; padding: 0px\; border: 0px\; outline: 0px\; background-color: transparent\;">\n							&nbsp\;</td>\n						<td style="margin: 0px\; padding: 0px\; border: 0px\; outline: 0px\; background-color: transparent\;">\n							&nbsp\;</td>\n					</tr>\n				</tbody>\n			</table>\n			<p class="org_date" style="margin: 0px\; padding: 0px\; border: 0px\; outline: 0px\; background-color: transparent\; font-weight: 700\;">\n				Presented by&nbsp\;<a href="http://www.birmingham365.org/web_services/calendar/277/org/detail/140" style="margin: 0px\; padding: 0px\; border: 0px\; outline: 0px\; background-color: transparent\; color: rgb(0\, 0\, 255)\; text-decoration: none\;">Shelby County Arts Council </a>at&nbsp\;<a href="http://www.birmingham365.org/web_services/calendar/277/venue/detail/939" style="margin: 0px\; padding: 0px\; border: 0px\; outline: 0px\; background-color: transparent\; color: rgb(0\, 0\, 255)\; text-decoration: none\;">Shelby County Arts Council Gallery</a></p>\n			<p class="org_date" style="margin: 0px\; padding: 0px\; border: 0px\; outline: 0px\; background-color: transparent\; font-weight: 700\;">\n				June 15\, 2013</p>\n			<br />\n			<p style="margin: 0px\; padding: 0px\; border: 0px\; outline: 0px\; background-color: transparent\;">\n				&nbsp\;</p>\n			<p style="margin: 0px\; padding: 0px\; border: 0px\; outline: 0px\; background-color: transparent\;">\n				Rare opportunity to take an intensive oil painting workshop from nationally recognized artist Donny Finley.&nbsp\; This workshop will include discussion on the Old Masters approach to painting and how modern day artists can implement this approach into their work.&nbsp\; Mr. Finley will share his own philosophy for painting and demonstrate techniques. *Student will receive one-on-one instruction *Bring you own paints and canvas.&nbsp\; &nbsp\;&nbsp\;</p>\n			<p style="margin: 0px\; padding: 0px\; border: 0px\; outline: 0px\; background-color: transparent\;">\n				&nbsp\;</p>\n		</div>\n	</div>\n</div>\n<div id="spotlight_bottom" style="margin: 0px\; padding: 0px\; border: 0px\; outline: 0px\; background-image: url(http://www.birmingham365.org/images/widget/spotlight_top_bottom.gif)\; width: 505px\; height: 15px\; clear: both\; color: rgb(0\, 0\, 0)\; font-family: Arial\, Helvetica\, sans-serif\; line-height: 16px\; background-position: 50% 100%\; background-repeat: repeat no-repeat\;">\n	&nbsp\;</div>\n
LOCATION:Shelby County Arts Council 104 Mildred Street Columbiana\, AL 35051
UID:e.145.4598
SEQUENCE:3
DTSTAMP:20260424T102742Z
URL:https://business.shelbychamber.org/events/details/scac-donny-finley-painting-workshop-06-15-2013-4598
END:VEVENT

END:VCALENDAR
