BEGIN:VCALENDAR
VERSION:2.0
PRODID:-//ChamberMaster//Event Calendar 2.0//EN
METHOD:PUBLISH
X-PUBLISHED-TTL:P3D
REFRESH-INTERVAL:P3D
CALSCALE:GREGORIAN
BEGIN:VEVENT
DTSTART:20130520T150000Z
DTEND:20130520T220000Z
X-MICROSOFT-CDO-ALLDAYEVENT:FALSE
SUMMARY:SCAC Friends of Anagama Ceramic Exhibition
DESCRIPTION:Shelby County Arts Council Gallery - Columbiana\n\n	May exhibit: "Friends of the Anagama"\n\n	 \n\n	Shelby County Arts Council is proud to present\n\n	Friends of the Anagama: A Ceramics  Exhibition\n\n	featuring ceramic artwork  fired in University of \n\n	Montevallo's Anagama Kiln.  Scott Meyer and \n\n	Friends will exhibit their pottery fired in the wood \n\n	fire kiln located on the school's campus. A photo \n\n	expos   chronicling the firing process of the kiln\n\n	will accompany the exhibit.\n\n	 \n\n	opening reception: Sunday May 5th 2 - 4pm. SCAC Gallery. Free and open to the public. Exhibit dates: May 5 - 31\, 2013.\n\n	Gallery Hours: Monday - Thursday 10:00 - 5:00
X-ALT-DESC;FMTTYPE=text/html:<div style="color: rgb(0\, 0\, 0)\; font-family: Arial\, sans-serif\; font-size: 13px\;">\n	Shelby County Arts Council Gallery - Columbiana<br />\n	May exhibit: &quot\;Friends of the Anagama&quot\;</div>\n<div style="color: rgb(0\, 0\, 0)\; font-family: Arial\, sans-serif\; font-size: 13px\;">\n	&nbsp\;</div>\n<div style="color: rgb(0\, 0\, 0)\; font-family: Arial\, sans-serif\; font-size: 13px\;">\n	Shelby County Arts Council is proud to present<br />\n	Friends of the Anagama: A Ceramics&nbsp\; Exhibition<br />\n	featuring ceramic artwork&nbsp\; fired in University of&nbsp\;<br />\n	Montevallo&#39\;s Anagama Kiln.&nbsp\; Scott Meyer and&nbsp\;<br />\n	Friends will exhibit their pottery fired in the wood&nbsp\;<br />\n	fire kiln located on the school&#39\;s campus. A photo&nbsp\;<br />\n	expos&eacute\;&nbsp\; chronicling the firing process of the kiln<br />\n	will accompany the exhibit.</div>\n<div style="color: rgb(0\, 0\, 0)\; font-family: Arial\, sans-serif\; font-size: 13px\;">\n	&nbsp\;</div>\n<div style="color: rgb(0\, 0\, 0)\; font-family: Arial\, sans-serif\; font-size: 13px\;">\n	opening reception: Sunday May 5th 2 - 4pm. SCAC Gallery. Free and open to the public. Exhibit dates: May 5 - 31\, 2013.</div>\n<div>\n	Gallery Hours: Monday - Thursday 10:00 - 5:00</div>\n
LOCATION:Shelby County Arts Council Gallery 104 Mildred Street\, Columbiana AL 35051
UID:e.145.4583
SEQUENCE:3
DTSTAMP:20260424T120439Z
URL:https://business.shelbychamber.org/events/details/scac-friends-of-anagama-ceramic-exhibition-05-20-2013-4583
END:VEVENT

END:VCALENDAR
