BEGIN:VCALENDAR
VERSION:2.0
PRODID:-//ChamberMaster//Event Calendar 2.0//EN
METHOD:PUBLISH
X-PUBLISHED-TTL:P3D
REFRESH-INTERVAL:P3D
CALSCALE:GREGORIAN
BEGIN:VEVENT
DTSTART:20140515T230000Z
DTEND:20140516T010000Z
X-MICROSOFT-CDO-ALLDAYEVENT:FALSE
SUMMARY:SCAC Instructors/Students Gallery Exhibit
DESCRIPTION:Enjoy over seventy-five pieces of art done by our instructors and students\, Including oil paintings\, watercolors\, pottery and photography. Reception open to the public from six pm to eight pm with light refreshments.
X-ALT-DESC;FMTTYPE=text/html:Enjoy over seventy-five pieces of art done by our instructors and students\, Including oil paintings\, watercolors\, pottery and photography. Reception open to the public from six pm to eight pm with light refreshments.
LOCATION:Shelby County Arts Council Gallery 104 Mildred St. Columbiana\, AL 35051
UID:e.145.5361
SEQUENCE:3
DTSTAMP:20260423T165045Z
URL:https://business.shelbychamber.org/events/details/scac-instructors-students-gallery-exhibit-05-15-2014-5361
END:VEVENT

END:VCALENDAR
