BEGIN:VCALENDAR
VERSION:2.0
PRODID:-//ChamberMaster//Event Calendar 2.0//EN
METHOD:PUBLISH
X-PUBLISHED-TTL:P3D
REFRESH-INTERVAL:P3D
CALSCALE:GREGORIAN
BEGIN:VEVENT
DTSTART;VALUE=DATE:20130723
DTEND;VALUE=DATE:20130724
TRANSP:TRANSPARENT
X-MICROSOFT-CDO-ALLDAYEVENT:TRUE
SUMMARY:SCAC Liberty Day Art Exhibit
DESCRIPTION:Shelby County Arts Council Gallery\n\n	Liberty Day Art Exhibit\n\n	Opening Reception: Friday\, June 28\, 2013. 6-8pm\n\n	Exhibit Dates:  June 28   July 31\,2013\n\n	Gallery Hours: Monday - Thursday\, 10am - 5pm\n\n	Each year the Shelby County Arts Council features works of Local Artists as part of the Liberty Day Celebration held in Downtown Columbiana\, Alabama. Mr. Max Newton and Mr. William "Bill" Dooley are this year's featured artists.The mission of the Shelby County Arts Council is to support\, nurture\, and promote the arts and cultural opportunities in Shelby County\, Alabama. The Arts Council is fully incorporated as a functioning 501(c)(3) not-for-profit organization.
X-ALT-DESC;FMTTYPE=text/html:<p class="p1">\n	&nbsp\;</p>\n<p class="p2">\n	<b>Shelby County Arts Council Gallery</b></p>\n<p class="p1">\n	<b>Liberty Day Art Exhibit</b></p>\n<p class="p1">\n	Opening Reception: Friday\, June 28\, 2013. 6-8pm</p>\n<p class="p1">\n	Exhibit Dates: &nbsp\;June 28 &ndash\; July 31\,2013</p>\n<p class="p1">\n	Gallery Hours: Monday - Thursday\, 10am - 5pm</p>\n<p class="p2">\n	Each year the Shelby County Arts Council features works of Local Artists as part of the Liberty Day Celebration held in Downtown Columbiana\, Alabama. Mr. Max Newton and Mr. William &quot\;Bill&quot\; Dooley are this year&#39\;s featured artists.The mission of the Shelby County Arts Council is to support\, nurture\, and promote the arts and cultural opportunities in Shelby County\, Alabama. The Arts Council is fully incorporated as a functioning 501(c)(3) not-for-profit organization.&nbsp\;</p>\n<p class="p1">\n	&nbsp\;</p>\n<p class="p2">\n	&nbsp\;</p>\n<p class="p2">\n	&nbsp\;</p>\n
LOCATION:Shelby County Arts Council Gallery 104 Mildred Street Columbiana\, AL 35051
UID:e.145.4664
SEQUENCE:3
DTSTAMP:20260424T085230Z
URL:https://business.shelbychamber.org/events/details/scac-liberty-day-art-exhibit-07-23-2013-4664
END:VEVENT

END:VCALENDAR
