BEGIN:VCALENDAR
VERSION:2.0
PRODID:-//ChamberMaster//Event Calendar 2.0//EN
METHOD:PUBLISH
X-PUBLISHED-TTL:P3D
REFRESH-INTERVAL:P3D
CALSCALE:GREGORIAN
BEGIN:VEVENT
DTSTART:20150731T110000Z
DTEND:20150731T110000Z
X-MICROSOFT-CDO-ALLDAYEVENT:FALSE
SUMMARY:SCAC Pottery Collective Opening Reception and Gallery Exhibit
DESCRIPTION:Join the Shelby County Arts Council in welcoming back our artists for the 2nd Annual SCAC Pottery Collective Gallery Exhibit. The opening reception is August 7\,  2015\, from 6-8pm.\n\nThe SCAC Pottery collective is a group of potter?s whose roots begin with the Shelby County Arts Council.  The group?s purpose is two-fold. \n\n	Support the Art of Pottery by offering continuing education classes\n	Support for individual artists in marketing their art by teaming together at gallery exhibits\, art-shows and festivals.\n\nExhibiting in this year's show is:  Amy Pickens\, Aprille Hayes\, Candye Lundy\, Karen Ingram\, Peggy Wood\, Sandra Annonio\, Stephanie Dikis and Vickie Carter.\n\n We  hope you will join us at the opening\, and bring your checkbook\, all the artist?s pottery in the exhibit is for sale!  An added bonus?some artists are offering   ?Opening Night Specials?.
X-ALT-DESC;FMTTYPE=text/html:Join the Shelby County Arts Council in welcoming back our artists for the 2nd Annual SCAC Pottery Collective Gallery Exhibit. The opening reception is August 7\,&nbsp\; 2015\, from 6-8pm.<br>\nThe SCAC Pottery collective is a group of potter?s whose roots begin with the Shelby County Arts Council.&nbsp\; The group?s purpose is two-fold.&nbsp\;\n<ul>\n	<li>Support the Art of Pottery by offering continuing education classes</li>\n	<li>Support for individual artists in marketing their art by teaming together at gallery exhibits\, art-shows and festivals.</li>\n</ul>\nExhibiting in this year's show is:&nbsp\; Amy Pickens\, Aprille Hayes\, Candye Lundy\, Karen Ingram\, Peggy Wood\, Sandra Annonio\, Stephanie Dikis and Vickie Carter.<br>\n&nbsp\;We&nbsp\; hope you will join us at the opening\, and bring your checkbook\, all the artist?s pottery in the exhibit is for sale! &nbsp\;An added bonus?some artists are offering&nbsp\;&nbsp\; ?Opening Night Specials?.&nbsp\;<br>\n&nbsp\;
LOCATION:Shelby County Arts Council\, 104 MIldred Street\, Columbiana\, AL 35051
UID:e.145.7765
SEQUENCE:3
DTSTAMP:20260422T195910Z
URL:https://business.shelbychamber.org/events/details/scac-pottery-collective-opening-reception-and-gallery-exhibit-07-31-2015-7765
END:VEVENT

END:VCALENDAR
