BEGIN:VCALENDAR
VERSION:2.0
PRODID:-//ChamberMaster//Event Calendar 2.0//EN
METHOD:PUBLISH
X-PUBLISHED-TTL:P3D
REFRESH-INTERVAL:P3D
CALSCALE:GREGORIAN
BEGIN:VEVENT
DTSTART:20140803T193000Z
DTEND:20140803T213000Z
X-MICROSOFT-CDO-ALLDAYEVENT:FALSE
SUMMARY:SCAC Pottery Students/ Instructors Show
DESCRIPTION:SCAC Pottery Collective Students / Instructors Show All current and prior students are invited to display and sell their pottery.
X-ALT-DESC;FMTTYPE=text/html:SCAC Pottery Collective Students / Instructors Show All current and prior students are invited to display and sell their pottery.
LOCATION:104 Mildred St. Columbiana Al\, 35051
UID:e.145.5521
SEQUENCE:3
DTSTAMP:20260423T120144Z
URL:https://business.shelbychamber.org/events/details/scac-pottery-students-instructors-show-08-03-2014-5521
END:VEVENT

END:VCALENDAR
