BEGIN:VCALENDAR
VERSION:2.0
PRODID:-//ChamberMaster//Event Calendar 2.0//EN
METHOD:PUBLISH
X-PUBLISHED-TTL:P3D
REFRESH-INTERVAL:P3D
CALSCALE:GREGORIAN
BEGIN:VEVENT
DTSTART:20130518T150000Z
DTEND:20130518T210000Z
X-MICROSOFT-CDO-ALLDAYEVENT:FALSE
SUMMARY:SCAC Ron Lewis Painting Workshop
DESCRIPTION:Painting Workshop with Award Winning Artist - Ron Lewis\n			\n				 \n			\n				 \n		\n	\n\n\n	Presented by Shelby County Arts Council at Shelby County Arts Council Gallery\n\n	May 18\, 2013\n\n\n\n	 \n\n	Join Ron as you paint side-by-side during this paint-along workshop. He will share his techniques and tips as you create your on painting in this relaxed\, fun workshop. Ronald Lewis has won over 100 awards for his paintings in oil\, watercolor and acrylic. He is a signature member of the American Watercolor Society and Alabama Watercolor Society. He is in the permanent collection of The Birmingham Museum of art\, Columbus Museum of Art and Fine Art Museum of the South in Mobile\, AL. His work has been published in Revue Moderne\, Paris France\, American Artist Magazine\, The Artist Magazine\, American Artist Acrylic Highlights Magazine and Southern Accents Magazine.
X-ALT-DESC;FMTTYPE=text/html:<br />\n<h2 style="margin: 0px 0px 5px\; padding: 0px\; border: none\; outline: 0px\; font-size: 14px\; background-image: none\; color: rgb(0\, 0\, 0)\; line-height: 20px\; font-family: Verdana\, Arial\, Helvetica\, sans-serif\;">\n	&nbsp\;</h2>\n<table style="margin: 0px\; padding: 0px\; border: 0px\; outline: 0px\; background-color: transparent\; border-collapse: collapse\; border-spacing: 0px\;">\n	<tbody style="margin: 0px\; padding: 0px\; border: 0px\; outline: 0px\; background-color: transparent\;">\n		<tr style="margin: 0px\; padding: 0px\; border: 0px\; outline: 0px\; background-color: transparent\;">\n			<td style="margin: 0px\; padding: 0px\; border: 0px\; outline: 0px\; background-color: transparent\;">\n				Painting Workshop with Award Winning Artist - Ron Lewis</td>\n			<td style="margin: 0px\; padding: 0px\; border: 0px\; outline: 0px\; background-color: transparent\;">\n				&nbsp\;</td>\n			<td style="margin: 0px\; padding: 0px\; border: 0px\; outline: 0px\; background-color: transparent\;">\n				&nbsp\;</td>\n		</tr>\n	</tbody>\n</table>\n<p class="org_date" style="margin: 0px\; padding: 0px\; border: 0px\; outline: 0px\; background-color: transparent\; font-weight: 700\; color: rgb(0\, 0\, 0)\; font-family: Arial\, Helvetica\, sans-serif\; line-height: 16px\;">\n	Presented by&nbsp\;<a href="http://www.birmingham365.org/web_services/calendar/277/org/detail/140" style="margin: 0px\; padding: 0px\; border: 0px\; outline: 0px\; background-color: transparent\; color: rgb(0\, 0\, 255)\; text-decoration: none\;">Shelby County Arts Council </a>at&nbsp\;<a href="http://www.birmingham365.org/web_services/calendar/277/venue/detail/939" style="margin: 0px\; padding: 0px\; border: 0px\; outline: 0px\; background-color: transparent\; color: rgb(0\, 0\, 255)\; text-decoration: none\;">Shelby County Arts Council Gallery</a></p>\n<p class="org_date" style="margin: 0px\; padding: 0px\; border: 0px\; outline: 0px\; background-color: transparent\; font-weight: 700\; color: rgb(0\, 0\, 0)\; font-family: Arial\, Helvetica\, sans-serif\; line-height: 16px\;">\n	May 18\, 2013</p>\n<br style="color: rgb(0\, 0\, 0)\; font-family: Arial\, Helvetica\, sans-serif\; line-height: 16px\;" />\n<p style="margin: 0px\; padding: 0px\; border: 0px\; outline: 0px\; background-color: transparent\; color: rgb(0\, 0\, 0)\; font-family: Arial\, Helvetica\, sans-serif\; line-height: 16px\;">\n	&nbsp\;</p>\n<p style="margin: 0px\; padding: 0px\; border: 0px\; outline: 0px\; background-color: transparent\; color: rgb(0\, 0\, 0)\; font-family: Arial\, Helvetica\, sans-serif\; line-height: 16px\;">\n	Join Ron as you paint side-by-side&nbsp\;during this&nbsp\;paint-along workshop. He will share his techniques and tips as you create your on painting in this relaxed\, fun workshop. Ronald Lewis has won over 100 awards for his paintings in oil\, watercolor and acrylic. He is a signature member of the American Watercolor Society and Alabama Watercolor Society. He is in the permanent collection of The Birmingham Museum of art\, Columbus Museum of Art and Fine Art Museum of the South in Mobile\, AL. His work has been published in Revue Moderne\, Paris France\, American Artist Magazine\, The Artist Magazine\, American Artist Acrylic Highlights Magazine and Southern Accents Magazine.</p>\n
LOCATION:Shelby County arts Council 104 Mildred Street Columbiana\, AL 35051
UID:e.145.4597
SEQUENCE:3
DTSTAMP:20260424T120122Z
URL:https://business.shelbychamber.org/events/details/scac-ron-lewis-painting-workshop-05-18-2013-4597
END:VEVENT

END:VCALENDAR
