BEGIN:VCALENDAR
VERSION:2.0
PRODID:-//ChamberMaster//Event Calendar 2.0//EN
METHOD:PUBLISH
X-PUBLISHED-TTL:P3D
REFRESH-INTERVAL:P3D
CALSCALE:GREGORIAN
BEGIN:VEVENT
DTSTART:20130610T140000Z
DTEND:20130615T170000Z
X-MICROSOFT-CDO-ALLDAYEVENT:FALSE
SUMMARY:SCAC Spark Your Abilities Art Camp
DESCRIPTION:Shelby County Arts Council - Columbiana\n\n	Spark Your Abilities\n\n	An art camp designed for youth with special needs. Our professional artist\, Edna Sealy and who works throughout the year in Shelby County Public Schools teaching our ARTabilities program will facilitate our summer camp. She along with her helpers will guide your child through a series of art and music activities that will aide in the development and improvement of motor skills\, hand-eye coordination\, critical thinking\, and socialization.\n\n	Location: Shelby County Arts Council Studio in Columbiana\n\n	Dates\, Times\, Price:\n\n	For Ages 6 - 10: June 10 - 15\, 2013\, 9:00am - 12:00pm\n\n	$125 - Regular Price\n\n	$112.50 Contributor level price\n\n	 The mission of the Shelby County Arts Council is to support\, nurture\, and promote the arts and cultural opportunities in Shelby County\, Alabama. The Arts Council is fully incorporated as a functioning 501(c)(3) not-for-profit organization.
X-ALT-DESC;FMTTYPE=text/html:<p class="p1">\n	Shelby County Arts Council - Columbiana</p>\n<p class="p2">\n	<b>Spark Your Abilities</b></p>\n<p class="p3">\n	An&nbsp\;art camp designed for youth with special needs. Our professional artist\, Edna Sealy and who works throughout the year in Shelby County Public Schools teaching our ARTabilities program will facilitate our summer camp. She along with her helpers will guide your child through a series of art and music activities that will aide in the development and improvement of motor skills\, hand-eye coordination\, critical thinking\, and socialization.</p>\n<p class="p4">\n	Location: Shelby County Arts Council Studio in Columbiana</p>\n<p class="p4">\n	Dates\, Times\, Price:</p>\n<p class="p4">\n	For Ages 6 - 10: June 10 - 15\, 2013\, 9:00am - 12:00pm</p>\n<p class="p4">\n	$125 - Regular Price</p>\n<p class="p4">\n	$112.50 Contributor level price</p>\n<p class="p4">\n	&nbsp\;The mission of the Shelby County Arts Council is to support\, nurture\, and promote the arts and cultural opportunities in Shelby County\, Alabama. The Arts Council is fully incorporated as a functioning 501(c)(3) not-for-profit organization.</p>\n
LOCATION:Shelby County Arts Council 104 Mildred Street Columbiana\, Al 35051
UID:e.145.4596
SEQUENCE:3
DTSTAMP:20260424T102432Z
URL:https://business.shelbychamber.org/events/details/scac-spark-your-abilities-art-camp-06-10-2013-4596
END:VEVENT

END:VCALENDAR
