BEGIN:VCALENDAR
VERSION:2.0
PRODID:-//ChamberMaster//Event Calendar 2.0//EN
METHOD:PUBLISH
X-PUBLISHED-TTL:P3D
REFRESH-INTERVAL:P3D
CALSCALE:GREGORIAN
BEGIN:VEVENT
DTSTART:20160814T003000Z
DTEND:20160814T030000Z
X-MICROSOFT-CDO-ALLDAYEVENT:FALSE
SUMMARY:SCAC Story Teller Night
DESCRIPTION:Southerners have always had great stories to share.  Vann Sykes\, Mayor Stancil Handley and friends will be sharing personal stories sure to have you smiling from ear-to-ear.  It is the chance for stories to move off the front porch and be put on stage in front of friends and strangers alike.
X-ALT-DESC;FMTTYPE=text/html:Southerners have always had great stories to share. &nbsp\;Vann Sykes\, Mayor Stancil Handley and friends will be sharing personal stories sure to have you smiling from ear-to-ear. &nbsp\;It is the chance for stories to move off the front porch and be put on stage in front of friends and strangers alike.&nbsp\;
LOCATION:104 Mildred Street\, Columbiana\, AL 35051
UID:e.145.9587
SEQUENCE:3
DTSTAMP:20260421T234454Z
URL:https://business.shelbychamber.org/events/details/scac-story-teller-night-08-13-2016-9587
END:VEVENT

END:VCALENDAR
