BEGIN:VCALENDAR
VERSION:2.0
PRODID:-//ChamberMaster//Event Calendar 2.0//EN
METHOD:PUBLISH
X-PUBLISHED-TTL:P3D
REFRESH-INTERVAL:P3D
CALSCALE:GREGORIAN
BEGIN:VEVENT
DTSTART;VALUE=DATE:20130715
DTEND;VALUE=DATE:20130716
TRANSP:TRANSPARENT
X-MICROSOFT-CDO-ALLDAYEVENT:TRUE
SUMMARY:SCAC Summer Art Camp - Columbiana
DESCRIPTION:Summer Art Camp - Artist Across American: Sea to Shining Sea\n\n	\n\n	Shelby County Arts Council - Columbiana \n\n	Each Day during this fun-filled week\, campers will create using a variety of mediums including pottery\, painting\, mixed media\, drawing\, installation art\, and much\, much more! Each project will focus on one of these four important American Artists plus we'll explore the exciting American Blues!   Artists Include: Georgia O'Keefe\, Andy Warhol\, John James Audubon\, and Grandma Moses.  The week wraps up with A Brief History of the American Blues plus an Open House for Family & Friends of Campers.\n\n	Register online:  www.shelbycountyartscouncil.com\n\n	 \n\n	Ages 5   8  \n\n	July 15 - July 19\, 2013                                                              \n\n	Time: 8:30 - 12                                                            \n\n	Regular Price: $135/ Contributor Level Price: $121.50  \n\n	                                             \n\n	Ages 9   12              \n\n	July 22 - July 26\, 2013\n\n	Time: 8:30 - 3:00pm\n\n	Regular Price: $200 / Contributor Level Price: $180\n\n	 The mission of the Shelby County Arts Council is to support\, nurture\, and promote the arts and cultural opportunities in Shelby County\, Alabama. The Arts Council is fully incorporated as a functioning 501(c)(3) not-for-profit organization.
X-ALT-DESC;FMTTYPE=text/html:<p class="p1">\n	&nbsp\;</p>\n<p class="p2">\n	<b>Summer Art Camp - Artist Across American: Sea to Shining Sea<br />\n	<br />\n	Shelby County Arts Council - Columbiana&nbsp\;</b></p>\n<p class="p2">\n	Each Day during this fun-filled week\, campers will create using a variety of mediums including pottery\, painting\, mixed media\, drawing\, installation art\, and much\, much more! Each project will focus on one of these four important American Artists plus we&#39\;ll explore the exciting American Blues! &nbsp\; Artists Include: Georgia O&#39\;Keefe\, Andy Warhol\, John James Audubon\, and Grandma Moses. &nbsp\;The week wraps up with A Brief History of the American Blues plus an Open House for Family &amp\; Friends of Campers.</p>\n<p class="p3">\n	<span class="s1">Register online: &nbsp\;<a href="http://www.shelbycountyartscouncil.com/"><span class="s2">www.shelbycountyartscouncil.com</span></a></span></p>\n<p class="p2">\n	&nbsp\;</p>\n<p class="p2">\n	Ages 5 &ndash\; 8 &nbsp\;</p>\n<p class="p2">\n	July 15 - July 19\, 2013 &nbsp\; &nbsp\; &nbsp\; &nbsp\; &nbsp\; &nbsp\; &nbsp\; &nbsp\; &nbsp\; &nbsp\; &nbsp\; &nbsp\; &nbsp\; &nbsp\; &nbsp\; &nbsp\; &nbsp\; &nbsp\; &nbsp\; &nbsp\; &nbsp\; &nbsp\; &nbsp\; &nbsp\; &nbsp\; &nbsp\; &nbsp\; &nbsp\; &nbsp\; &nbsp\; &nbsp\;</p>\n<p class="p2">\n	Time: 8:30 - 12 &nbsp\; &nbsp\; &nbsp\; &nbsp\; &nbsp\; &nbsp\; &nbsp\; &nbsp\; &nbsp\; &nbsp\; &nbsp\; &nbsp\; &nbsp\; &nbsp\; &nbsp\; &nbsp\; &nbsp\; &nbsp\; &nbsp\; &nbsp\; &nbsp\; &nbsp\; &nbsp\; &nbsp\; &nbsp\; &nbsp\; &nbsp\; &nbsp\; &nbsp\; &nbsp\;</p>\n<p class="p2">\n	Regular Price: $135/ Contributor Level Price: $121.50 &nbsp\;</p>\n<p class="p2">\n	&nbsp\; &nbsp\; &nbsp\; &nbsp\; &nbsp\; &nbsp\; &nbsp\; &nbsp\; &nbsp\; &nbsp\; &nbsp\; &nbsp\; &nbsp\; &nbsp\; &nbsp\; &nbsp\; &nbsp\; &nbsp\; &nbsp\; &nbsp\; &nbsp\; &nbsp\; &nbsp\;</p>\n<p class="p2">\n	Ages 9 &ndash\; 12 &nbsp\; &nbsp\; &nbsp\; &nbsp\; &nbsp\; &nbsp\; &nbsp\;</p>\n<p class="p2">\n	July 22 - July 26\, 2013</p>\n<p class="p2">\n	Time: 8:30 - 3:00pm</p>\n<p class="p2">\n	Regular Price: $200 / Contributor Level Price: $180</p>\n<p class="p2">\n	&nbsp\;The mission of the Shelby County Arts Council is to support\, nurture\, and promote the arts and cultural opportunities in Shelby County\, Alabama. The Arts Council is fully incorporated as a functioning 501(c)(3) not-for-profit organization.</p>\n
LOCATION:Shelby County Arts Council Galllery 104 Mildred Street Columbiana\, AL 35051
UID:e.145.4595
SEQUENCE:3
DTSTAMP:20260424T102931Z
URL:https://business.shelbychamber.org/events/details/scac-summer-art-camp-columbiana-07-15-2013-4595
END:VEVENT

END:VCALENDAR
