BEGIN:VCALENDAR
VERSION:2.0
PRODID:-//ChamberMaster//Event Calendar 2.0//EN
METHOD:PUBLISH
X-PUBLISHED-TTL:P3D
REFRESH-INTERVAL:P3D
CALSCALE:GREGORIAN
BEGIN:VEVENT
DTSTART:20160711T190000Z
DTEND:20160711T200000Z
X-MICROSOFT-CDO-ALLDAYEVENT:FALSE
SUMMARY:Scales\, Tales\, & More!
DESCRIPTION:Did you know animals are natural born athletes? Join Alabama 4-H as they present some super jocks from the world of animals! No registration. Sponsored by Shelby Pediatric Dentistry.
X-ALT-DESC;FMTTYPE=text/html:<span style="font-family:calibri light\,sans-serif">Did you know animals are natural born athletes? Join Alabama 4-H as they present some super jocks from the world of animals! No registration. <strong>Sponsored by Shelby Pediatric Dentistry.</strong></span>
LOCATION:North Shelby Library 5521 Cahaba Valley Road Birmingham\, AL 35242
UID:e.145.9596
SEQUENCE:3
DTSTAMP:20260422T012509Z
URL:https://business.shelbychamber.org/events/details/scales-tales-more-07-11-2016-9596
END:VEVENT

END:VCALENDAR
