BEGIN:VCALENDAR
VERSION:2.0
PRODID:-//ChamberMaster//Event Calendar 2.0//EN
METHOD:PUBLISH
X-PUBLISHED-TTL:P3D
REFRESH-INTERVAL:P3D
CALSCALE:GREGORIAN
BEGIN:VEVENT
DTSTART:20160511T180000Z
DTEND:20160511T190000Z
X-MICROSOFT-CDO-ALLDAYEVENT:FALSE
SUMMARY:Science of Bread
DESCRIPTION:Join us for an exciting\, hands-on science program! Part of our STEAM (science\, technology\, engineering\, art\, and math) initiative\, we're learning all about the inner workings of baking bread. From yeast to gluten\, we're getting our hands messy and learning about how science can take place right in your own kitchen. Ages 5 and up. Call the library to register.
X-ALT-DESC;FMTTYPE=text/html:<span style="font-family:calibri light\,sans-serif">Join us for an exciting\, hands-on science program! Part of our STEAM (science\, technology\, engineering\, art\, and math) initiative\, we&rsquo\;re learning all about the inner workings of baking bread. From yeast to gluten\, we&rsquo\;re getting our hands messy and learning about how science can take place right in your own kitchen. Ages 5 and up. Call the library to register.&nbsp\;</span>
LOCATION:North Shelby Library
UID:e.145.9488
SEQUENCE:3
DTSTAMP:20260422T043337Z
URL:https://business.shelbychamber.org/events/details/science-of-bread-05-11-2016-9488
END:VEVENT

END:VCALENDAR
