BEGIN:VCALENDAR
VERSION:2.0
PRODID:-//ChamberMaster//Event Calendar 2.0//EN
METHOD:PUBLISH
X-PUBLISHED-TTL:P3D
REFRESH-INTERVAL:P3D
CALSCALE:GREGORIAN
BEGIN:VEVENT
DTSTART:20151001T233000Z
DTEND:20151002T001500Z
X-MICROSOFT-CDO-ALLDAYEVENT:FALSE
SUMMARY:Scooby Doo Monster Mash at the North Shelby Library
DESCRIPTION:Join us at 6:30 pm for a spooky (and family friendly) evening of Halloween fun! Sign up to help us solve the mystery of the stolen Scooby Snacks\, make a scary monster mask\, and stick around for our Monster Mash dance party! Costumes encouraged but not required. Scooby Snacks will be served...if they're found! All ages welcome. Registration is required.
X-ALT-DESC;FMTTYPE=text/html:Join us at 6:30 pm for a spooky (and family friendly) evening of Halloween fun! Sign up to help us solve the mystery of the stolen Scooby Snacks\, make a scary monster mask\, and stick around for our Monster Mash dance party! Costumes encouraged but not required. Scooby Snacks will be served...if they&#39\;re found! All ages welcome. Registration is required.&nbsp\;
LOCATION:North Shelby Library
UID:e.145.7889
SEQUENCE:3
DTSTAMP:20260422T154421Z
URL:https://business.shelbychamber.org/events/details/scooby-doo-monster-mash-at-the-north-shelby-library-10-01-2015-7889
END:VEVENT

END:VCALENDAR
