BEGIN:VCALENDAR
VERSION:2.0
PRODID:-//ChamberMaster//Event Calendar 2.0//EN
METHOD:PUBLISH
X-PUBLISHED-TTL:P3D
REFRESH-INTERVAL:P3D
CALSCALE:GREGORIAN
BEGIN:VEVENT
DTSTART;VALUE=DATE:20140322
DTEND;VALUE=DATE:20140323
TRANSP:TRANSPARENT
X-MICROSOFT-CDO-ALLDAYEVENT:TRUE
SUMMARY:SEC Women's Gymnastics Championship
DESCRIPTION:This is a must see event for that sports fan on your list!
X-ALT-DESC;FMTTYPE=text/html:This is a must see event for that sports fan on your list! 
LOCATION:BJCC
UID:e.145.5011
SEQUENCE:3
DTSTAMP:20260423T201500Z
URL:https://business.shelbychamber.org/events/details/sec-women-s-gymnastics-championship-03-22-2014-5011
END:VEVENT

END:VCALENDAR
