BEGIN:VCALENDAR
VERSION:2.0
PRODID:-//ChamberMaster//Event Calendar 2.0//EN
METHOD:PUBLISH
X-PUBLISHED-TTL:P3D
REFRESH-INTERVAL:P3D
CALSCALE:GREGORIAN
BEGIN:VEVENT
DTSTART:20170228T160000Z
DTEND:20170228T163000Z
X-MICROSOFT-CDO-ALLDAYEVENT:FALSE
SUMMARY:Sensory Storytime
DESCRIPTION:A snack-free storytime for children with special needs with caregiver support\, featuring fun picture books and songs\, along with fine and gross motor movement activities. Special supports like fidget toys are available to help children be successful. Registration required.
X-ALT-DESC;FMTTYPE=text/html:<span style="font-family:calibri light\,sans-serif">A snack-free storytime for children with special needs with caregiver support\, featuring fun picture books and songs\, along with fine and gross motor movement activities. Special supports like fidget toys are available to help children be successful. <u>Registration required</u>.</span>
LOCATION:North Shelby Library 5521 Cahaba Valley Road Birmingham\, AL 35242
UID:e.145.10321
SEQUENCE:3
DTSTAMP:20260421T101648Z
URL:https://business.shelbychamber.org/events/details/sensory-storytime-02-28-2017-10321
END:VEVENT

END:VCALENDAR
