BEGIN:VCALENDAR
VERSION:2.0
PRODID:-//ChamberMaster//Event Calendar 2.0//EN
METHOD:PUBLISH
X-PUBLISHED-TTL:P3D
REFRESH-INTERVAL:P3D
CALSCALE:GREGORIAN
BEGIN:VEVENT
DTSTART:20150206T160000Z
DTEND:20150206T170000Z
X-MICROSOFT-CDO-ALLDAYEVENT:FALSE
SUMMARY:Seventh Heaven Ribbon Cutting
DESCRIPTION:Please join us for a Ribbon Cutting Celebration to welcome the new owner\, Patti Smith!
X-ALT-DESC;FMTTYPE=text/html:Please join us for a Ribbon Cutting Celebration to welcome the new owner\, Patti Smith!&nbsp\;&nbsp\;&nbsp\;
LOCATION:Located at 301A West College Street\, Columbiana 35051
UID:e.145.6655
SEQUENCE:3
DTSTAMP:20260423T034507Z
URL:https://business.shelbychamber.org/events/details/seventh-heaven-ribbon-cutting-02-06-2015-6655
END:VEVENT

END:VCALENDAR
