BEGIN:VCALENDAR
VERSION:2.0
PRODID:-//ChamberMaster//Event Calendar 2.0//EN
METHOD:PUBLISH
X-PUBLISHED-TTL:P3D
REFRESH-INTERVAL:P3D
CALSCALE:GREGORIAN
BEGIN:VEVENT
DTSTART:20110623T170000Z
DTEND:20110624T000000Z
X-MICROSOFT-CDO-ALLDAYEVENT:FALSE
SUMMARY:Share the Beat-Give Blood at Susan Schein Automotive
DESCRIPTION:Give Blood at Susan Schein Automotive\n\nThursday\, June 23\, 2011\n\n12:00 pm until 7:00 pm\n\nUrgent Need for All Blood Donors Now\n\nYour Pint Saves 3 Lives!\n\n\n\n\n\nDonors Receive a LifeSouth Share the Beat T-shirt\, Snacks and Beverage\n\nAnd a Susan Schein Oil and Filter Changer for only $17.95* (excludes diesels or synthetics)\n\nPlus an entry to Win Gifts from Nino's Italian Restaurant\, Donut Joe's\, McAlisters\, The UPS Store and Bojangles
X-ALT-DESC;FMTTYPE=text/html:Give Blood at Susan Schein Automotive<br />\nThursday\, June 23\, 2011<br />\n12:00 pm until 7:00 pm<br />\nUrgent Need for All Blood Donors Now<br />\nYour Pint Saves 3 Lives!<br />\n<br />\n<br />\nDonors Receive a LifeSouth Share the Beat T-shirt\, Snacks and Beverage<br />\nAnd a Susan Schein Oil and Filter Changer for only $17.95* (excludes diesels or synthetics)<br />\nPlus an entry to Win Gifts from Nino&#39\;s Italian Restaurant\, Donut Joe&#39\;s\, McAlisters\, The UPS Store and Bojangles
LOCATION:Give Blood at Susan Schein Automotive Thursday\, June 23\, 2011 12:00 pm until 7:00 pm Urgent Need for All Blood Donors Now Your Pint Saves 3 Lives! Donors Receive a LifeSouth Share the Beat T-shirt\, Snacks and Beverage And a Susan Schein Oil and Filter Changer for only $17.95* (excludes diesels or synthetics) Plus an entry to Win Gifts from Nino's Italian Restaurant\, Donut Joe's\, McAlisters\, The UPS Store and Bojangles
UID:e.145.3441
SEQUENCE:3
DTSTAMP:20260426T005821Z
URL:https://business.shelbychamber.org/events/details/share-the-beat-give-blood-at-susan-schein-automotive-06-23-2011-3441
END:VEVENT

END:VCALENDAR
