BEGIN:VCALENDAR
VERSION:2.0
PRODID:-//ChamberMaster//Event Calendar 2.0//EN
METHOD:PUBLISH
X-PUBLISHED-TTL:P3D
REFRESH-INTERVAL:P3D
CALSCALE:GREGORIAN
BEGIN:VEVENT
DTSTART:20130427T220000Z
DTEND:20130428T010000Z
X-MICROSOFT-CDO-ALLDAYEVENT:FALSE
SUMMARY:Shelby County A Day
DESCRIPTION:SHELBY COUNTY A DAY\n\n\n\nSaturday\, April 27\, 2013\, 5 - 8 PM\n\n\n\nJIM 'N NICK'S\n\n295 Alabaster Blvd.\n\nAlabaster\, Alabama\n\n205 605-0170\n\n\n\nBring your camera and get your picture made with the Aaron's Talladega UA National Championship race car and former Bama QB Andrew Zow.\n\n\n\nYour $5 donation will benefit the Shelby County UA Alumni Chapter scholarship fund.\n\n\n\nLooking forward to seeing you there.\n\n\n\nROLL TIDE!
X-ALT-DESC;FMTTYPE=text/html:SHELBY COUNTY A DAY<br />\n<br />\nSaturday\, April 27\, 2013\, 5 - 8 PM<br />\n<br />\nJIM &#39\;N NICK&#39\;S<br />\n295 Alabaster Blvd.<br />\nAlabaster\, Alabama<br />\n205 605-0170<br />\n<br />\nBring your camera and get your picture made with the Aaron&#39\;s Talladega UA National Championship race car and former Bama QB Andrew Zow.<br />\n<br />\nYour $5 donation will benefit the Shelby County UA Alumni Chapter scholarship fund.<br />\n<br />\nLooking forward to seeing you there.<br />\n<br />\nROLL TIDE!
LOCATION:Jim 'N Nick's 295 Alabaster Blvd. Alabaster\, Alabama 205 605-0170
UID:e.145.4605
SEQUENCE:3
DTSTAMP:20260424T134400Z
URL:https://business.shelbychamber.org/events/details/shelby-county-a-day-04-27-2013-4605
END:VEVENT

END:VCALENDAR
