BEGIN:VCALENDAR
VERSION:2.0
PRODID:-//ChamberMaster//Event Calendar 2.0//EN
METHOD:PUBLISH
X-PUBLISHED-TTL:P3D
REFRESH-INTERVAL:P3D
CALSCALE:GREGORIAN
BEGIN:VEVENT
DTSTART:20111018T130000Z
DTEND:20111018T183000Z
X-MICROSOFT-CDO-ALLDAYEVENT:FALSE
SUMMARY:Shelby County A.W.A.R.E. Senior Job Fair
DESCRIPTION:Senior Job Fair 50+ sponsored by Shelby County A.W.A.R.E (Aging Workers Are Reliable Employees) and Pelham First Baptist Church.\n\n\n\nClick here for an informational event flier.\n\n\n\nClick her for a business informational flier.\n\n\n\nJOB FAIR FOR MATURE WORKERS (50+)\n\nOctober 18th\n\nPELHAM FIRST BAPTIST CHURCH ANNEX\n\n2867 Pelham Highway\, Pelham\, AL\n\n8 am   1:30 pm\n\n\n\nSponsored by:\n\nAWARE (Aging Workers Are Reliable Employees)\n\nA Division of Positive Maturity\, Inc.\, A United Way Partner \n\nand \n\nPelhamFirst Baptist Church\n\n \n\nThis is a unique opportunity for mature workers who are looking for employment or a change in careers. For job seekers there is no charge. Applications are available onsite. Job skills workshops will be conducted during the event.\n\n \n\nBusiness leaders\, here is an opportunity to match your employment needs with the work habits of mature workers. For booth space call Harold Deason at (205) 670 - 6570.
X-ALT-DESC;FMTTYPE=text/html:<strong>Senior Job Fair&nbsp\;50+&nbsp\;sponsored by Shelby County A.W.A.R.E (Aging Workers Are Reliable Employees) and Pelham First Baptist Church.</strong><br />\n<br />\n<strong><a href="http://cloud.chambermaster.com/userfiles/UserFiles/chambers/145/File/Community Events/JobFairBusiness2011Flyer.pdf">Click here for an informational event flier.</a></strong><br />\n<br />\n<strong><a href="http://cloud.chambermaster.com/userfiles/UserFiles/chambers/145/File/Community Events/JobFairBusiness2011Flyer.pdf">Click her for a business informational flier.</a></strong><br />\n<br />\n<strong><span style="font-size: 16pt\;">JOB FAIR FOR MATURE WORKERS (50+)</span></strong><br />\n<strong><span style="font-size: 16pt\;">October 18th</span></strong><br />\n<strong><span style="font-size: 16pt\;">PELHAM FIRST BAPTIST CHURCH ANNEX</span></strong><br />\n<strong><span style="font-size: 16pt\;">2867 Pelham Highway</span></strong><strong><span style="font-size: 16pt\;">\, Pelham\, AL</span></strong><br />\n<strong><span style="font-size: 16pt\;">8 am &ndash\; 1:30 pm</span></strong><br />\n<br />\n<strong><span style="font-size: 16pt\;">Sponsored by:</span></strong><br />\n<strong><span style="font-size: 16pt\;">AWARE (Aging Workers Are Reliable Employees)</span></strong><br />\n<strong>A Division of Positive Maturity\, Inc.\, A United Way Partner </strong><br />\n<strong><span style="font-size: 14pt\;">and </span></strong><br />\n<strong><span style="font-size: 18pt\;">Pelham</span></strong><strong><span style="font-size: 18pt\;">First Baptist Church</span></strong><br />\n&nbsp\;<br />\n<strong>This is a unique opportunity for mature workers who are looking for employment or a change in careers. For job seekers there is no charge. Applications are available onsite. Job skills workshops will be conducted during the event.</strong><br />\n&nbsp\;<br />\n<strong>Business leaders\, here is an opportunity to match your employment needs with the work habits of mature workers. For booth space call Harold Deason at (205) 670 - 6570. </strong>
LOCATION:2867 Pelham Parkway\, Pelham\, AL 35214 Annex
UID:e.145.3503
SEQUENCE:3
DTSTAMP:20260425T183153Z
URL:https://business.shelbychamber.org/events/details/shelby-county-a-w-a-r-e-senior-job-fair-10-18-2011-3503
END:VEVENT

END:VCALENDAR
