BEGIN:VCALENDAR
VERSION:2.0
PRODID:-//ChamberMaster//Event Calendar 2.0//EN
METHOD:PUBLISH
X-PUBLISHED-TTL:P3D
REFRESH-INTERVAL:P3D
CALSCALE:GREGORIAN
BEGIN:VEVENT
DTSTART;VALUE=DATE:20110504
DTEND;VALUE=DATE:20110526
TRANSP:TRANSPARENT
X-MICROSOFT-CDO-ALLDAYEVENT:TRUE
SUMMARY:Shelby County Arts Council Youth Chorale
DESCRIPTION:Grades 4-8\n\nSinging\, Music reading\, stage presence\, choreography and more!\n\nCome join the Shelby County children's Chorale for an experience you'll never forget!
X-ALT-DESC;FMTTYPE=text/html:Grades 4-8\n<br>Singing\, Music reading\, stage presence\, choreography and more!\n<br>Come join the Shelby County children's Chorale for an experience you'll never forget!
LOCATION:Shelby County Arts Council
UID:e.145.3300
SEQUENCE:3
DTSTAMP:20260426T034522Z
URL:https://business.shelbychamber.org/events/details/shelby-county-arts-council-youth-chorale-05-04-2011-3300
END:VEVENT

END:VCALENDAR
