BEGIN:VCALENDAR
VERSION:2.0
PRODID:-//ChamberMaster//Event Calendar 2.0//EN
METHOD:PUBLISH
X-PUBLISHED-TTL:P3D
REFRESH-INTERVAL:P3D
CALSCALE:GREGORIAN
BEGIN:VEVENT
DTSTART:20110413T150000Z
DTEND:20110413T153000Z
X-MICROSOFT-CDO-ALLDAYEVENT:FALSE
SUMMARY:Shelby County Blue Ribbon Child Abuse Prevention Month Kick-Off at Owen's House
DESCRIPTION:Shelby County Blue Ribbon / Child Abuse Prevention Month Kick-Off\n\n\n\nYou are invited to to attend the kick-off for Child Abuse Prevention Month at Owens House.\n\n\n\nSupreme Court Judge Patricia Smith will be the keynote speaker.  There will be a tour of the facility and refreshments served.\n\n\n\nYou are invited to support this worthy cause and assist in generating awareness for the April campaign.\n\n\n\nVisit the Owens House website for more information about the organization.
X-ALT-DESC;FMTTYPE=text/html:Shelby County Blue Ribbon / Child Abuse Prevention Month Kick-Off<br />\n<br />\nYou are invited to to attend the kick-off for Child Abuse Prevention Month at Owens House.<br />\n<br />\nSupreme Court Judge Patricia Smith will be the keynote speaker.&nbsp\; There will be a tour of the facility and refreshments served.<br />\n<br />\nYou are invited to support this worthy cause and assist in generating awareness for the April campaign.<br />\n<br />\nVisit the <a href="http://owenshousecac.org/">Owens House website</a> for more information about the organization.
LOCATION:Owens House 22747 Highway 25\, Columbiana\, AL 35051
UID:e.145.3282
SEQUENCE:3
DTSTAMP:20260426T034816Z
URL:https://business.shelbychamber.org/events/details/shelby-county-blue-ribbon-child-abuse-prevention-month-kick-off-at-owen-s-house-04-13-2011-3282
END:VEVENT

END:VCALENDAR
