BEGIN:VCALENDAR
VERSION:2.0
PRODID:-//ChamberMaster//Event Calendar 2.0//EN
METHOD:PUBLISH
X-PUBLISHED-TTL:P3D
REFRESH-INTERVAL:P3D
CALSCALE:GREGORIAN
BEGIN:VEVENT
DTSTART:20151119T220000Z
DTEND:20151120T000000Z
X-MICROSOFT-CDO-ALLDAYEVENT:FALSE
SUMMARY:Shelby County College & Career Center Ribbon Cutting
DESCRIPTION:Please join us for a ribbon cutting celebrating Shelby County College & Career Center!
X-ALT-DESC;FMTTYPE=text/html:Please join us for a ribbon cutting celebrating Shelby County College &amp\; Career Center!
LOCATION:Shelby County College & Career Center 701 AL-70 Columbiana\, AL 35051
UID:e.145.7962
SEQUENCE:3
DTSTAMP:20260422T142103Z
URL:https://business.shelbychamber.org/events/details/shelby-county-college-career-center-ribbon-cutting-11-19-2015-7962
END:VEVENT

END:VCALENDAR
