BEGIN:VCALENDAR
VERSION:2.0
PRODID:-//ChamberMaster//Event Calendar 2.0//EN
METHOD:PUBLISH
X-PUBLISHED-TTL:P3D
REFRESH-INTERVAL:P3D
CALSCALE:GREGORIAN
BEGIN:VEVENT
DTSTART:20140503T140000Z
DTEND:20140503T190000Z
X-MICROSOFT-CDO-ALLDAYEVENT:FALSE
SUMMARY:Shelby County College & Career Center's 4th Annual Car Show
DESCRIPTION:Our 4th Annual Show will feature Cars\, Trucks\, Motorcycles & Tractors. Oldies music\, Contestant Door Prizes & Unique Trophies. Silent Auction\, Food\, Drinks\, and Snacks as well as Space Bounces for the kids. All funds raised with benefit students to attend a National SkillsUSA Competition in Kansas City\, MO in June.
X-ALT-DESC;FMTTYPE=text/html:Our 4th Annual Show will feature Cars\, Trucks\, Motorcycles &amp\; Tractors. Oldies music\, Contestant Door Prizes &amp\; Unique Trophies. Silent Auction\, Food\, Drinks\, and Snacks as well as Space Bounces for the kids. All funds raised with benefit students to attend a National SkillsUSA Competition in Kansas City\, MO in June.
LOCATION:Shelby County College & Career Center 701 Hwy 70\, Columbiana\, Alabama
UID:e.145.5117
SEQUENCE:3
DTSTAMP:20260423T165626Z
URL:https://business.shelbychamber.org/events/details/shelby-county-college-career-center-s-4th-annual-car-show-05-03-2014-5117
END:VEVENT

END:VCALENDAR
