BEGIN:VCALENDAR
VERSION:2.0
PRODID:-//ChamberMaster//Event Calendar 2.0//EN
METHOD:PUBLISH
X-PUBLISHED-TTL:P3D
REFRESH-INTERVAL:P3D
CALSCALE:GREGORIAN
BEGIN:VEVENT
DTSTART:20150917T133000Z
DTEND:20150917T144500Z
X-MICROSOFT-CDO-ALLDAYEVENT:FALSE
SUMMARY:Shelby County Drug Free Coalition meeting
DESCRIPTION:We meet every other month and we provide meaningful meetings to inform and educate the coalition about new trends in the drug culture along with\, an inspiring and motivational aspect. You are invited to come. We need you!
X-ALT-DESC;FMTTYPE=text/html:We meet every other month and we provide meaningful meetings to inform and educate the coalition about new trends in the drug culture along with\, an inspiring and motivational aspect. You are invited to come. We need you!
LOCATION:Family Connection 2 Walker Run Alabaster\, Al 35007
UID:e.145.7833
SEQUENCE:3
DTSTAMP:20260422T172010Z
URL:https://business.shelbychamber.org/events/details/shelby-county-drug-free-coalition-meeting-09-17-2015-7833
END:VEVENT

END:VCALENDAR
