BEGIN:VCALENDAR
VERSION:2.0
PRODID:-//ChamberMaster//Event Calendar 2.0//EN
METHOD:PUBLISH
X-PUBLISHED-TTL:P3D
REFRESH-INTERVAL:P3D
CALSCALE:GREGORIAN
BEGIN:VEVENT
DTSTART:20140620T140000Z
DTEND:20140620T160000Z
X-MICROSOFT-CDO-ALLDAYEVENT:FALSE
SUMMARY:Shelby County Export 101 Workshop
DESCRIPTION:Shelby County Export 101 Workshop\n\n\n\n**Workshop has been postponed and new date is to be determined.  If you would like to be notified of the new date please email info@shelbychamber.org.**\n\n\n\nClick here for a printable PDF flier:  Shelby County Export 101.\n\n\n\nThe Greater Shelby County Chamber of Commerce and the Shelby County Economic and Industrial Development Authority will introduce members of the Alabama Export Alliance who will share export opportunities for Shelby County businesses.\n\n\n\nLearn how to find and meet a foreign demand for your products that you never knew existed through your home-grown Alabama resources.\n\n\n\nWho Should Attend the Workshop?\n\nThis workshop is designed for companies\, business leaders and Shelby County elected officials\, to support growth and sustainability through exporting overseas. Geared toward small - and medium - sized businesses\, this program will cater to all levels of experience. Whether you are new to exporting or looking to expand into new markets\, you will be served by this hands-on program through the Export Alabama Alliance.\n\n\n\nCome learn the answers to the questions:\n* What international markets should I target?\n\n* How do I get started there?\n\n* Who are my reliable contacts there?\n\n* What new resources are available?\n\n \n\nThere is no charge to attend\, but RSVP is requested:\n\n\n\nKirk R. Mancer\, Greater Shelby County Chamber of Commerce\n\nkirk@shelbychamber.org\n\n663-4542\n\nor\n\nAlan Reeves\, Birmingham Business Alliance\n\nareeves@birminghambusinessalliance.com\n\n241-8133
X-ALT-DESC;FMTTYPE=text/html:<div><br />\n<strong>Shelby County Export 101 Workshop<br />\n<br />\n**Workshop has been postponed and new date is to be determined.&nbsp\; If you would like to be notified of the new date please email <a href="mailto:info@shelbychamber.org?subject=Shelby%20County%20Export%20101%3A%20Please%20Contact%20with%20New%20Workshop%20Date&amp\;body=Contact%20Name%3A%0A%0APlease%20call%3A%0Aor%0Aemail%3A%0Awhen%20new%20date%20has%20been%20determined%20for%20the%20Shelby%20County%20Export%20101%20Workshop.">info@shelbychamber.org</a>.**</strong><br />\n<br />\nClick here for a printable PDF flier:&nbsp\; <a href="http://cloud.chambermaster.com/userfiles/UserFiles/chambers/145/File/Community%20Events/ShelbyCountyExport101.Final.pdf">Shelby County Export 101</a>.<br />\n<br />\nThe Greater Shelby County Chamber of Commerce and the Shelby County Economic and Industrial Development Authority will introduce members of the Alabama Export Alliance who will share export opportunities for Shelby County businesses.<br />\n<br />\nLearn how to find and meet a foreign demand for your products that you never knew existed through your home-grown Alabama resources.<br />\n<br />\n<strong>Who Should Attend the Workshop?</strong><br />\nThis workshop is designed for companies\, business leaders and Shelby County elected officials\, to support growth and sustainability through exporting overseas. Geared toward small - and medium - sized businesses\, this program will cater to all levels of experience. Whether you are new to exporting or looking to expand into new markets\, you will be served by this hands-on program through the Export Alabama Alliance.<br />\n<br />\n<strong>Come learn the answers to the questions:</strong></div>\n* What international markets should I target?\n\n<div>* How do I get started there?</div>\n\n<div>* Who are my reliable contacts there?</div>\n\n<div>* What new resources are available?<br />\n&nbsp\;</div>\n\n<div>There is no charge to attend\, but RSVP is requested:<br />\n<br />\nKirk R. Mancer\, Greater Shelby County Chamber of Commerce<br />\n<a href="mailto:kirk@shelbychamber.org?subject=Shelby%20County%20Export%20101%20RSVP%2FQuestion">kirk@shelbychamber.org</a><br />\n663-4542<br />\nor<br />\nAlan Reeves\, Birmingham Business Alliance<br />\n<a href="mailto:areeves@birminghambusinessalliance.com?subject=Shelby%20County%20Export%20101%20RSVP%2FQuestion">areeves@birminghambusinessalliance.com</a><br />\n241-8133</div>\n
LOCATION:Community Meeting Room\, Shelby County Services Building 1126 County Services Drive Pelham\, Alabama 35124
UID:e.145.5334
SEQUENCE:3
DTSTAMP:20260423T151114Z
URL:https://business.shelbychamber.org/events/details/shelby-county-export-101-workshop-06-20-2014-5334
END:VEVENT

END:VCALENDAR
