BEGIN:VCALENDAR
VERSION:2.0
PRODID:-//ChamberMaster//Event Calendar 2.0//EN
METHOD:PUBLISH
X-PUBLISHED-TTL:P3D
REFRESH-INTERVAL:P3D
CALSCALE:GREGORIAN
BEGIN:VEVENT
DTSTART:20140802T150000Z
DTEND:20140802T230000Z
X-MICROSOFT-CDO-ALLDAYEVENT:FALSE
SUMMARY:Shelby County Family Day at McWane
DESCRIPTION:Shelby County Family Day at McWane Science Center\n\n\n\nShelby County residents will receive half-off admission to McWane Science Center for the entire family on Saturday\, August 2\, 2014 from 10:00 am to 6:00 pm. It is a great opportunity for families to explore the museum. McWane Science Center is a nonprofit\, hands-on museum that features four floors of interactive exhibits including an amazing collection of dinosaurs\, hands-on science exhibits\, imaginative early childhood learning areas\, and an awe-inspiring aquarium. Make sure to see the Cartoon Network Animation exhibit that is a special limited showing at the museum until August 31\, 2014.\n\n\n\nOne invitation per family must be presented\, along with a current driver's license or employee ID. The invitation can be found and downloaded at:  http://mcwane.org/calendar_items/1298-shelby_county_family_day_2014   or at any Shelby County Library.  The half-off admission applies to both children and adults and includes the museum only.\n\n\n\nFor more information\, visit www.mcwane.org.
X-ALT-DESC;FMTTYPE=text/html:<br />\n<strong>Shelby County Family Day at McWane Science Center</strong><br />\n<br />\nShelby County residents will receive half-off admission to McWane Science Center for the entire family on Saturday\, August 2\, 2014 from 10:00 am to 6:00 pm. It is a great opportunity for families to explore the museum. McWane Science Center is a nonprofit\, hands-on museum that features four floors of interactive exhibits including an amazing collection of dinosaurs\, hands-on science exhibits\, imaginative early childhood learning areas\, and an awe-inspiring aquarium. Make sure to see the Cartoon Network Animation exhibit that is a special limited showing at the museum until August 31\, 2014.<br />\n<br />\nOne invitation per family must be presented\, along with a current driver&rsquo\;s license or employee ID. The invitation can be found and downloaded at:&nbsp\; <a href="http://mcwane.org/calendar_items/1298-shelby_county_family_day_2014">http://mcwane.org/calendar_items/1298-shelby_county_family_day_2014</a>&nbsp\;&nbsp\; or at any Shelby County Library.&nbsp\; The half-off admission applies to both children and adults and includes the museum only.<br />\n<br />\nFor more information\, visit www.mcwane.org.
LOCATION:McWane Science Center 200 19th Street North Birmingham\, AL 35203 (205) 714-8372
UID:e.145.5799
SEQUENCE:3
DTSTAMP:20260423T120849Z
URL:https://business.shelbychamber.org/events/details/shelby-county-family-day-at-mcwane-08-02-2014-5799
END:VEVENT

END:VCALENDAR
