BEGIN:VCALENDAR
VERSION:2.0
PRODID:-//ChamberMaster//Event Calendar 2.0//EN
METHOD:PUBLISH
X-PUBLISHED-TTL:P3D
REFRESH-INTERVAL:P3D
CALSCALE:GREGORIAN
BEGIN:VEVENT
DTSTART:20130803T150000Z
DTEND:20130803T230000Z
X-MICROSOFT-CDO-ALLDAYEVENT:FALSE
SUMMARY:Shelby County Family Day at McWane Science Center
DESCRIPTION:Shelby County residents are invited to enjoy special access to McWane Science Center during the third Shelby County Family Day at McWane Science Center on Saturday\, August 3\, 2013 from 10:00 am to 6:00 pm.\n\n \n\nShelby County residents will receive half-off admission to McWane Science Center. It is a great opportunity for families to explore the museum. McWane Science Center is a nonprofit\, hands-on museum that features four floors of interactive exhibits including an amazing collection of dinosaurs\, hands-on science exhibits\, imaginative early childhood learning areas\, and an awe-inspiring aquarium.\n\n\n\nOne invitation per family must be presented\, along with a current driver's license for proof of residency. The invitation can be found and downloaded at: Shelby County Family Day  or at any Shelby County Library.  The half-off admission applies to both children and adults and includes the museum only.\n\n \n\nFor more information\, visit www.mcwane.org.
X-ALT-DESC;FMTTYPE=text/html:<span style="font-size:12px\;"><span style="font-family: arial\;"><span style="color: rgb(23\, 54\, 93)\;">Shelby County residents are invited to enjoy special access to McWane Science Center during the </span><span style="color: rgb(31\, 73\, 125)\;">third </span><span style="color: rgb(23\, 54\, 93)\;">Shelby County Family Day at McWane Science Center on Saturday\, August </span><span style="color: rgb(31\, 73\, 125)\;">3</span><span style="color: rgb(23\, 54\, 93)\;">\, </span><span style="color: rgb(31\, 73\, 125)\;">2013</span><span style="color: rgb(23\, 54\, 93)\;"> from 10:00 am to 6:00 pm.</span><br />\n&nbsp\;<br />\n<span style="color: rgb(23\, 54\, 93)\;">Shelby County residents will receive half-off admission to McWane Science Center. It is a great opportunity for families to explore the museum. McWane Science Center is a nonprofit\, hands-on museum that features four floors of interactive exhibits including an amazing collection of dinosaurs\, hands-on science exhibits\, imaginative early childhood learning areas\, and an awe-inspiring aquarium.<br />\n<br />\nOne invitation per family must be presented\, along with a current driver&rsquo\;s license for proof of residency. The invitation can be found and downloaded at:</span><span style="color: rgb(31\, 73\, 125)\;"> <a href="http://www.mcwane.org/calendar_items/1260-shelby_county_family_day">Shelby County Family Day</a> </span><span style="color: rgb(23\, 54\, 93)\;">&nbsp\;or at any Shelby County Library.&nbsp\; The half-off admission applies to both children and adults and includes the museum only.</span><br />\n&nbsp\;<br />\n<span style="color: rgb(23\, 54\, 93)\;">For more information\, visit <a href="http://www.mcwane.org">www.mcwane.org</a>.</span></span></span><br />\n
LOCATION:McWane Science Center 200 19th Street North Birmingham\, AL 35203 (205) 714-8372
UID:e.145.4673
SEQUENCE:3
DTSTAMP:20260424T085740Z
URL:https://business.shelbychamber.org/events/details/shelby-county-family-day-at-mcwane-science-center-08-03-2013-4673
END:VEVENT

END:VCALENDAR
