BEGIN:VCALENDAR
VERSION:2.0
PRODID:-//ChamberMaster//Event Calendar 2.0//EN
METHOD:PUBLISH
X-PUBLISHED-TTL:P3D
REFRESH-INTERVAL:P3D
CALSCALE:GREGORIAN
BEGIN:VEVENT
DTSTART:20110924T150000Z
DTEND:20110924T220000Z
X-MICROSOFT-CDO-ALLDAYEVENT:FALSE
SUMMARY:Shelby County Family Day Offers Half-off Museum Admission @ McWane Science Ctr.
DESCRIPTION:FOR IMMEDIATE RELEASE                             \n\nContact: Chandler Bibb 205.714.8219\n\ncbibb@mcwane.org\n\n                                       \n\n                             \n\nShelby County Family Day Offers Half-off museum admission at McWane Science Center\n\n\n\n\n\n(Birmingham\, AL) Residents of Shelby County are invited to enjoy special access to McWane Science Center during the first Shelby County Day at McWane on Saturday\, September 24\, 2011 from 10:00 am to 5:00 pm.\n\n\n\nShelby County residents will receive half-off admission to McWane Science Center. It is a great opportunity for families to explore the museum. McWane Science Center is a nonprofit\, hands-on museum that features four floors of interactive exhibits including an amazing collection of dinosaurs\, hands-on science exhibits\, imaginative early childhood learning areas\, and an awe-inspiring aquarium.\n\n\n\nShelby County residents must present a copy of the invitation that can be found on www.mcwane.org or at any Shelby County Library and a copy of a current driver's license showing proof of residency.  The half-off admission applies to both children and adults and includes the museum only.\n\n\n\nFor more information\, visit www.mcwane.org.
X-ALT-DESC;FMTTYPE=text/html:FOR IMMEDIATE RELEASE&nbsp\;&nbsp\; &nbsp\;&nbsp\;&nbsp\;&nbsp\;&nbsp\;&nbsp\;&nbsp\;&nbsp\; &nbsp\;&nbsp\;&nbsp\; &nbsp\;&nbsp\;&nbsp\; &nbsp\;&nbsp\;&nbsp\; &nbsp\;&nbsp\;&nbsp\; &nbsp\;<br />\nContact: Chandler Bibb 205.714.8219<br />\ncbibb@mcwane.org<br />\n&nbsp\;&nbsp\; &nbsp\;&nbsp\;&nbsp\;&nbsp\; &nbsp\;&nbsp\;&nbsp\; &nbsp\;&nbsp\;&nbsp\; &nbsp\;&nbsp\;&nbsp\; &nbsp\;&nbsp\;&nbsp\; &nbsp\;&nbsp\;&nbsp\;&nbsp\;&nbsp\;&nbsp\;&nbsp\;&nbsp\;&nbsp\; &nbsp\;&nbsp\;&nbsp\; &nbsp\;<br />\n&nbsp\;&nbsp\; &nbsp\;&nbsp\;&nbsp\;&nbsp\; &nbsp\;&nbsp\;&nbsp\; &nbsp\;&nbsp\;&nbsp\; &nbsp\;&nbsp\;&nbsp\; &nbsp\;&nbsp\;&nbsp\; &nbsp\;&nbsp\;&nbsp\; &nbsp\;<br />\n<strong>Shelby County Family Day Offers Half-off museum admission at McWane Science Center</strong><br />\n<br />\n<br />\n(Birmingham\, AL)&mdash\;Residents of Shelby County are invited to enjoy special access to McWane Science Center during the first Shelby County Day at McWane on Saturday\, September 24\, 2011 from 10:00 am to 5:00 pm.<br />\n<br />\nShelby County residents will receive half-off admission to McWane Science Center. It is a great opportunity for families to explore the museum. McWane Science Center is a nonprofit\, hands-on museum that features four floors of interactive exhibits including an amazing collection of dinosaurs\, hands-on science exhibits\, imaginative early childhood learning areas\, and an awe-inspiring aquarium.<br />\n<br />\nShelby County residents must present a copy of the invitation that can be found on www.mcwane.org or at any Shelby County Library and a copy of a current driver&rsquo\;s license showing proof of residency.&nbsp\; The half-off admission applies to both children and adults and includes the museum only.<br />\n<br />\nFor more information\, visit <a href="http://www.mcwane.org">www.mcwane.org</a>.
LOCATION:McWane Science Center 200 19th St N\, Birmingham\, AL 35203 (205) 714-8300
UID:e.145.3513
SEQUENCE:3
DTSTAMP:20260425T200930Z
URL:https://business.shelbychamber.org/events/details/shelby-county-family-day-offers-half-off-museum-admission-mcwane-science-ctr-09-24-2011-3513
END:VEVENT

END:VCALENDAR
