BEGIN:VCALENDAR
VERSION:2.0
PRODID:-//ChamberMaster//Event Calendar 2.0//EN
METHOD:PUBLISH
X-PUBLISHED-TTL:P3D
REFRESH-INTERVAL:P3D
CALSCALE:GREGORIAN
BEGIN:VEVENT
DTSTART:20120203T000000Z
DTEND:20120203T013000Z
X-MICROSOFT-CDO-ALLDAYEVENT:FALSE
SUMMARY:Shelby County Legislative Forum at the University of Montevallo
DESCRIPTION:The University of Montevallo invites all interested individuals to attend a legislative forum and question-and-answer forum with members of the Alabama State Legislature\, featuring members of the Shelby County Legislative Delegation\, including Senator Cam Ward and Representative Mary Sue McClurkin.  Additional panelists include Gordon Stone\, Executive Director of the Higher Education Partnership\, and UM President John W. Stewart III.  The event will take place Thursday\, February 2\, at 6 p.m.\, in the Anna Irvin Dining Hall on the UM campus. \n\n\n\nFor complete information\, visit http://www.montevallo.edu/news/images/HEF2012.pdf\n\n\n\nPublic Relations Team\n\nUniversity of Montevallo\n\n205.665.6230
X-ALT-DESC;FMTTYPE=text/html:The University of Montevallo invites all interested individuals to attend a legislative forum and question-and-answer forum with members of the Alabama State Legislature\, featuring members of the Shelby County Legislative Delegation\, including Senator Cam Ward and Representative Mary Sue McClurkin.&nbsp\; Additional panelists include Gordon Stone\, Executive Director of the Higher Education Partnership\, and UM President John W. Stewart III.&nbsp\; The event will take place Thursday\, February 2\, at 6 p.m.\, in the Anna Irvin Dining Hall on the UM campus.&nbsp\;<br />\n<br />\nFor complete information\, visit http://www.montevallo.edu/news/images/HEF2012.pdf<br />\n<br />\nPublic Relations Team<br />\nUniversity of Montevallo<br />\n205.665.6230
LOCATION:Anna Irvin Dining Hall\, University of Montevallo
UID:e.145.3918
SEQUENCE:3
DTSTAMP:20260425T120149Z
URL:https://business.shelbychamber.org/events/details/shelby-county-legislative-forum-at-the-university-of-montevallo-02-02-2012-3918
END:VEVENT

END:VCALENDAR
