BEGIN:VCALENDAR
VERSION:2.0
PRODID:-//ChamberMaster//Event Calendar 2.0//EN
METHOD:PUBLISH
X-PUBLISHED-TTL:P3D
REFRESH-INTERVAL:P3D
CALSCALE:GREGORIAN
BEGIN:VEVENT
DTSTART:20120205T200000Z
DTEND:20120205T210000Z
X-MICROSOFT-CDO-ALLDAYEVENT:FALSE
SUMMARY:Shelby County's 194th Birthday Celebration - Sunday\, February 5\, 2012
DESCRIPTION:You are cordially invited to a BIRTHDAY CELEBRATION In Honor of the 194th Birthday of THE FOUNDING OF SHELBY COUNTY\, ALABAMA -- Sunday\, February 5\, 2012 ~ Beginning 2:00 pm.\n\n\n\n"Celebrating our Past ... Preparing for our Future"\n\n\n\nShelby County\n\n\n\n... A County OLDER THAN Its State ...\n\n\n\nPUBLIC INVITED\n\nSponsored by the Shelby County Historical Society\, Inc.\n\nSunday\, February 5\, 2012 ~ Beginning 2:00 pm.\n\n\n\nTO BE HELD AT THE\n\nShelby County Museum & Archives\n\n1854 Old Courthouse\n\nColumbiana\, Alabama\n\n\n\n\n\nSPECIAL GUESTS\n\nDr. Edwin C. Bridges\n\nAlabama Department of Archives & History\n\nGuest Speaker\n\n"The Birthing of a State"\n\n\n\nLee Sentell\n\nAlabama Tourism Director\n\n2012 State Tourism Campaign\n\n"The Year of Alabama Food"\n\n\n\nRobert G. Thrower\, Jr.\n\nA Poarch Creek and the Cultural Director for the Poarch Band of Creek Indians\n\n\n\n\n\nADDITIONAL INVITED GUESTS\n\nShelby County Commissioners\n\nGreater Shelby County Chamber of Commerce\n\nSouth Shelby County Chamber of Commerce\n\nShelby County Mayors\n\nMany Others ... Come Early for Pre-Program Entertainment including Creek Indian Cultural Demonstrations
X-ALT-DESC;FMTTYPE=text/html:You are cordially invited to a BIRTHDAY CELEBRATION In Honor of the 194th Birthday of THE FOUNDING OF SHELBY COUNTY\, ALABAMA -- Sunday\, February 5\, 2012 ~ Beginning 2:00 pm.<br />\n<br />\n&quot\;Celebrating our Past ... Preparing for our Future&quot\;<br />\n<br />\nShelby County<br />\n<br />\n... A County OLDER THAN Its State ...<br />\n<br />\nPUBLIC INVITED<br />\nSponsored by the Shelby County Historical Society\, Inc.<br />\nSunday\, February 5\, 2012 ~ Beginning 2:00 pm.<br />\n<br />\nTO BE HELD AT THE<br />\nShelby County Museum &amp\; Archives<br />\n1854 Old Courthouse<br />\nColumbiana\, Alabama<br />\n<br />\n<br />\nSPECIAL GUESTS<br />\nDr. Edwin C. Bridges<br />\nAlabama Department of Archives &amp\; History<br />\nGuest Speaker<br />\n&quot\;The Birthing of a State&quot\;<br />\n<br />\nLee Sentell<br />\nAlabama Tourism Director<br />\n2012 State Tourism Campaign<br />\n&quot\;The Year of Alabama Food&quot\;<br />\n<br />\nRobert G. Thrower\, Jr.<br />\nA Poarch Creek and the Cultural Director for the Poarch Band of Creek Indians<br />\n<br />\n<br />\nADDITIONAL INVITED GUESTS<br />\nShelby County Commissioners<br />\nGreater Shelby County Chamber of Commerce<br />\nSouth Shelby County Chamber of Commerce<br />\nShelby County Mayors<br />\nMany Others ... Come Early for Pre-Program Entertainment including Creek Indian Cultural Demonstrations
LOCATION:Shelby County Museum & Archives 1854 Old Courthouse Columbiana\, Alabama
UID:e.145.3900
SEQUENCE:3
DTSTAMP:20260425T135031Z
URL:https://business.shelbychamber.org/events/details/shelby-county-s-194th-birthday-celebration-sunday-february-5-2012-02-05-2012-3900
END:VEVENT

END:VCALENDAR
