BEGIN:VCALENDAR
VERSION:2.0
PRODID:-//ChamberMaster//Event Calendar 2.0//EN
METHOD:PUBLISH
X-PUBLISHED-TTL:P3D
REFRESH-INTERVAL:P3D
CALSCALE:GREGORIAN
BEGIN:VEVENT
DTSTART:20170221T160000Z
DTEND:20170222T020000Z
X-MICROSOFT-CDO-ALLDAYEVENT:FALSE
SUMMARY:Shelby County's Annual Montgomery Drive-In 2017
DESCRIPTION:Four Chambers in Shelby County Co-Hosting\n\n Fifth Annual Montgomery Drive-In on February 21\n\nThe Chamber's 2017 Shelby County Annual Montgomery Drive-In will be held February 21 at various locations in our state capitol. \n\n\n\nThis year's Drive-In event is Co-Sponsored by NobleBank & Trust and co-hosted by the Greater Shelby County\, Hoover\, Montevallo and South Shelby chambers of commerce. The program includes: transportation to and from Montgomery -- (instructions will be emailed to you prior to the event date for planning purposes).\n\n\n\nFebruary 21\, 2017 Agenda   (As of 2/13/17)\n\n\n\n9:45AM        Depart for Montgomery from The Galleria\n\n\n\n11:15AM        Arrive Montgomery\n\n                      Central Restaurant\n\n                      129 Coosa Street\, Montgomery AL 36104\n\n                      (Phone: 334-517-1121)\n\n\n\n11:30AM        Luncheon / Montgomery Update\n\n                      With Shelby County Legislative Delegation\n\n\n\n1:30PM   5:00PM   Comments/ Issues Briefings\n\n                                 Business Center of Alabama\n\n                                 2 North Jackson Street\, Montgomery\, AL 36104\n\n\n\n1:30PM       The Honorable Robert Bentley (Confirmed)\n\n                    Governor\, State of Alabama\n\n\n\n2:00PM        Mr. Gunter Guy (Confirmed)\n\n                    Commissioner\, Alabama Department of\n\n                    Conservation & Natural Resources\n\n\n\n2:30PM        Mr. Jim Byard (Confirmed)\n\n                    Director\, Alabama Department of Economic\n\n                    & Community Affairs\n\n            \n\n3:00PM       Mr. Clinton Carter (Confirmed)\n\n                    Director\, Alabama Department of Finance\n\n\n\n3:30PM       Mr. Stephen McCormick (Confirmed)\n\n                    Director of Governmental Affairs\,\n\n                    Alabama Department of Labor\n\n\n\n4:00PM       Mr. John R. Cooper (Confirmed)\n\n                    Director\, Alabama Department of Transportation\n\n\n\n4:30PM      Mr. Greg Canfield (Confirmed)\n\n                  Secretary\, Alabama Department of Commerce\n\n\n\n5:15PM      Depart for Business Council of Alabama's\n\n                    Leadership Reception\n\n                    Renaissance Montgomery Hotel & Spa\n\n                    201 Tallapoosa Street\, Montgomery AL\n\n\n\n5:30PM       Arrive Capital Leadership Reception\n\n                    (Co-Hosted by Business Council of Alabama &\n\n                    Chamber of Commerce Association of Alabama)\n\n\n\n6:45PM        Depart Renaissance Montgomery\n\n                      Hotel & Spa\n\n\n\nThe cost for participants is $45 for Chamber investors and $75 for "Future" investors. ShelbyOne investors receive one complimentary registration. For additional information on this event\, or to make a reservation\, please contact Kirk Mancer at the Chamber via e-mail at kirk@shelbychamber.org\, by phone at 419-3361 or use the online registration option.\n\n\nShelbyOne Investors receive one complimentary registration but are asked to contact the Chamber to make the reservation. Call 663-4542 or email info@shelbychamber.org to take advantage of this opportunity.
X-ALT-DESC;FMTTYPE=text/html:<div style="text-align: center\;"><strong>Four Chambers in Shelby County Co-Hosting<br />\n&nbsp\;Fifth&nbsp\;Annual Montgomery Drive-In on February 21</strong></div>\n\n<div>The Chamber&rsquo\;s 2017 Shelby County Annual Montgomery Drive-In will be held February 21 at various locations in our state capitol.&nbsp\;<br />\n<br />\nThis year&rsquo\;s Drive-In event is Co-Sponsored by <a href="https://www.noblebank.com/">NobleBank &amp\; Trust</a> and co-hosted by the Greater Shelby County\, Hoover\, Montevallo and South Shelby chambers of commerce. The program includes: transportation to and from Montgomery --&nbsp\;(instructions will be emailed to you prior to the event date for planning purposes).<br />\n<br />\n<strong>February 21\, 2017 Agenda &ndash\; (As of 2/13/17)</strong>\n\n<div><br />\n9:45AM&nbsp\;&nbsp\; &nbsp\;&nbsp\;&nbsp\; &nbsp\;<strong>Depart for Montgomery from The Galleria</strong><br />\n<br />\n11:15AM&nbsp\;&nbsp\; &nbsp\;&nbsp\;&nbsp\; &nbsp\;<strong>Arrive Montgomery<br />\n&nbsp\; &nbsp\; &nbsp\; &nbsp\; &nbsp\; &nbsp\; &nbsp\; &nbsp\; &nbsp\; &nbsp\; &nbsp\; Central Restaurant</strong><br />\n&nbsp\; &nbsp\; &nbsp\; &nbsp\; &nbsp\; &nbsp\; &nbsp\; &nbsp\; &nbsp\; &nbsp\; &nbsp\; 129 Coosa Street\, Montgomery AL 36104<br />\n&nbsp\;&nbsp\; &nbsp\; &nbsp\; &nbsp\; &nbsp\; &nbsp\; &nbsp\; &nbsp\; &nbsp\; &nbsp\; &nbsp\;(Phone: 334-517-1121)<br />\n<br />\n11:30AM&nbsp\;&nbsp\; &nbsp\;&nbsp\;&nbsp\; &nbsp\;<strong>Luncheon / Montgomery Update</strong><br />\n&nbsp\; &nbsp\; &nbsp\; &nbsp\; &nbsp\; &nbsp\; &nbsp\; &nbsp\; &nbsp\; &nbsp\; &nbsp\; With Shelby County Legislative Delegation<br />\n<br />\n1:30PM &ndash\; 5:00PM&nbsp\;&nbsp\; <strong>Comments/ Issues Briefings<br />\n&nbsp\; &nbsp\; &nbsp\; &nbsp\; &nbsp\; &nbsp\; &nbsp\; &nbsp\; &nbsp\; &nbsp\; &nbsp\; &nbsp\; &nbsp\; &nbsp\; &nbsp\; &nbsp\; &nbsp\;<em>Business Center of Alabama</em></strong><br />\n&nbsp\; &nbsp\; &nbsp\; &nbsp\; &nbsp\; &nbsp\; &nbsp\; &nbsp\; &nbsp\; &nbsp\; &nbsp\; &nbsp\; &nbsp\; &nbsp\; &nbsp\; &nbsp\; &nbsp\;2 North Jackson Street\, Montgomery\, AL 36104<br />\n<br />\n1:30PM&nbsp\;&nbsp\; &nbsp\;&nbsp\;&nbsp\; The Honorable Robert Bentley <strong><span style="color:#FF0000\;"><em>(Confirmed)</em></span></strong><br />\n&nbsp\; &nbsp\; &nbsp\; &nbsp\; &nbsp\; &nbsp\; &nbsp\; &nbsp\; &nbsp\; &nbsp\; Governor\, State of Alabama<br />\n<br />\n2:00PM&nbsp\;&nbsp\; &nbsp\;&nbsp\;&nbsp\; &nbsp\;Mr. Gunter Guy <span style="color:#FF0000\;"><strong><em>(Confirmed)</em></strong></span><br />\n&nbsp\; &nbsp\; &nbsp\; &nbsp\; &nbsp\; &nbsp\; &nbsp\; &nbsp\; &nbsp\; &nbsp\; Commissioner\, Alabama Department of<br />\n&nbsp\;&nbsp\; &nbsp\; &nbsp\; &nbsp\; &nbsp\; &nbsp\; &nbsp\; &nbsp\; &nbsp\; &nbsp\;Conservation &amp\; Natural Resources<br />\n<br />\n2:30PM&nbsp\;&nbsp\; &nbsp\;&nbsp\;&nbsp\; &nbsp\;Mr. Jim Byard <span style="color:#FF0000\;"><strong><em>(Confirmed)</em></strong></span><br />\n&nbsp\; &nbsp\; &nbsp\; &nbsp\; &nbsp\; &nbsp\; &nbsp\; &nbsp\; &nbsp\; &nbsp\; Director\, Alabama Department of Economic<br />\n&nbsp\;&nbsp\; &nbsp\; &nbsp\; &nbsp\; &nbsp\; &nbsp\; &nbsp\; &nbsp\; &nbsp\; &nbsp\;&amp\; Community Affairs<br />\n&nbsp\;&nbsp\; &nbsp\;&nbsp\;&nbsp\; &nbsp\;&nbsp\;&nbsp\; &nbsp\;<br />\n3:00PM&nbsp\;&nbsp\; &nbsp\;&nbsp\;&nbsp\; Mr. Clinton Carter <span style="color:#FF0000\;"><strong><em>(Confirmed)</em></strong></span><br />\n&nbsp\; &nbsp\; &nbsp\; &nbsp\; &nbsp\; &nbsp\; &nbsp\; &nbsp\; &nbsp\; &nbsp\; Director\, Alabama Department of Finance<br />\n<br />\n3:30PM&nbsp\;&nbsp\; &nbsp\;&nbsp\;&nbsp\; Mr. Stephen McCormick <span style="color:#FF0000\;"><strong><em>(Confirmed)</em></strong></span><br />\n&nbsp\; &nbsp\; &nbsp\; &nbsp\; &nbsp\; &nbsp\; &nbsp\; &nbsp\; &nbsp\; &nbsp\; Director of Governmental Affairs\,<br />\n&nbsp\;&nbsp\; &nbsp\; &nbsp\; &nbsp\; &nbsp\; &nbsp\; &nbsp\; &nbsp\; &nbsp\; &nbsp\;Alabama Department of Labor<br />\n<br />\n4:00PM&nbsp\; &nbsp\; &nbsp\; &nbsp\;Mr. John R. Cooper <em><strong><span style="color:#FF0000\;">(Confirmed)</span></strong></em><br />\n&nbsp\; &nbsp\; &nbsp\; &nbsp\; &nbsp\; &nbsp\; &nbsp\; &nbsp\; &nbsp\; &nbsp\; Director\, Alabama Department of Transportation<br />\n<br />\n4:30PM&nbsp\; &nbsp\; &nbsp\; Mr.&nbsp\;Greg Canfield <em><span style="color:#FF0000\;"><strong>(Confirmed)</strong></span></em><br />\n&nbsp\; &nbsp\; &nbsp\; &nbsp\; &nbsp\; &nbsp\; &nbsp\; &nbsp\; &nbsp\; Secretary\, Alabama&nbsp\;Department of Commerce<br />\n<br />\n5:15PM&nbsp\;&nbsp\; &nbsp\;&nbsp\;&nbsp\;<strong>Depart for Business Council of Alabama&rsquo\;s<br />\n&nbsp\;&nbsp\; &nbsp\; &nbsp\; &nbsp\; &nbsp\; &nbsp\; &nbsp\; &nbsp\; &nbsp\; &nbsp\;Leadership Reception</strong><br />\n&nbsp\; &nbsp\; &nbsp\; &nbsp\; &nbsp\; &nbsp\; &nbsp\; &nbsp\; &nbsp\; &nbsp\; Renaissance Montgomery Hotel &amp\; Spa<br />\n&nbsp\; &nbsp\; &nbsp\; &nbsp\; &nbsp\; &nbsp\; &nbsp\; &nbsp\; &nbsp\; &nbsp\; 201 Tallapoosa Street\, Montgomery AL<br />\n<br />\n5:30PM&nbsp\;&nbsp\; &nbsp\;&nbsp\;&nbsp\; <strong>Arrive Capital Leadership Reception</strong><br />\n&nbsp\; &nbsp\; &nbsp\; &nbsp\; &nbsp\; &nbsp\; &nbsp\; &nbsp\; &nbsp\; &nbsp\; (Co-Hosted by Business Council of Alabama &amp\;<br />\n&nbsp\; &nbsp\; &nbsp\; &nbsp\; &nbsp\; &nbsp\; &nbsp\; &nbsp\; &nbsp\; &nbsp\; Chamber of Commerce Association of Alabama)<br />\n<br />\n6:45PM&nbsp\;&nbsp\; &nbsp\;&nbsp\;&nbsp\; &nbsp\;<strong>Depart Renaissance Montgomery<br />\n&nbsp\; &nbsp\; &nbsp\; &nbsp\; &nbsp\; &nbsp\; &nbsp\; &nbsp\; &nbsp\; &nbsp\; &nbsp\; Hotel &amp\; Spa</strong><br />\n<br />\nThe cost for participants is $45 for Chamber investors and $75 for &ldquo\;Future&rdquo\; investors. <em>ShelbyOne</em> investors receive one complimentary registration. For additional information on this event\, or to make a reservation\, please contact Kirk Mancer at the Chamber via e-mail at <a href="mailto:kirk@shelbychamber.org?subject=2017%20Montgomery%20Drive-In%20February%2021">kirk@shelbychamber.org</a>\,&nbsp\;by phone at 419-3361 or use the online registration option.</div>\n<br />\n<em><strong>ShelbyOne</strong> Investors receive one complimentary registration but are asked to contact the Chamber to make the reservation. Call 663-4542 or email <a href="mailto:info@shelbychamber.org?subject=Annual%20Montgomery%20Drive-In%20February%2021%2C%202017">info@shelbychamber.org</a> to take advantage of this opportunity.</em></div>\n
LOCATION:Transportation is available and included in the registration fee. Instructions will be emailed to you prior to the event date for planning purposes.
UID:e.145.10347
SEQUENCE:3
DTSTAMP:20260421T103620Z
URL:https://business.shelbychamber.org/events/details/shelby-county-s-annual-montgomery-drive-in-2017-10347
END:VEVENT

END:VCALENDAR
