BEGIN:VCALENDAR
VERSION:2.0
PRODID:-//ChamberMaster//Event Calendar 2.0//EN
METHOD:PUBLISH
X-PUBLISHED-TTL:P3D
REFRESH-INTERVAL:P3D
CALSCALE:GREGORIAN
BEGIN:VEVENT
DTSTART;VALUE=DATE:20120330
DTEND;VALUE=DATE:20120331
TRANSP:TRANSPARENT
X-MICROSOFT-CDO-ALLDAYEVENT:TRUE
SUMMARY:Shelby County's Best BBQ
DESCRIPTION:Date: Friday\, March 30\, 2012\n\n	Time: Set up 6 a.m.\, Judging at 4:30 p.m.\, Public Tasting\, 5 p.m.-7 p.m.\n\n	Location: Downtown Columbiana\n\n	Costs: Tasting tickets $10 each\, kids 10 and under free with a paid adult.\n\n	BBQ cook teams will offer boston butts\, ribs and other treats for tasting\n\n	Event Activities- Great BBQ\, Live Music\, Fences on Parade Exhibit\, Car Show\, Space Bounce\, Face painting\, Popcorn machine\n\n	Trophy Awards Presentation:\n\n	  Best Overall Ribs and Sauce\n\n	  Best Ribs 1st\, 2nd\, 3rd places\n\n	  Best Sauce 1st\, 2nd\, 3rd places\n\n	  Chef's Specialty (your favorite creation on the grill- up to 3 entries/team)\n\n	  People's Choice Award presented at 6:30pm\n\n	THANKS TO OUR TITLE SPONSOR\n\n	DELOACH\, BARBER & CASPERS\, P.C.\n\n	Event benefits the Shelby County Arts Council and the South Shelby Chamber of Commerce.  These organizations share the goal of making Shelby County a better place to live and work.
X-ALT-DESC;FMTTYPE=text/html:<p>\n	Date: Friday\, March 30\, 2012<br />\n	Time: Set up 6 a.m.\, Judging at 4:30 p.m.\, Public Tasting\, 5 p.m.-7 p.m.<br />\n	Location: Downtown Columbiana<br />\n	Costs: Tasting tickets $10 each\, kids 10 and under free with a paid adult.<br />\n	BBQ cook teams will offer boston butts\, ribs and other treats for tasting<br />\n	Event Activities- Great BBQ\, Live Music\, Fences on Parade Exhibit\, Car Show\, Space Bounce\, Face painting\, Popcorn machine</p>\n<p>\n	Trophy Awards Presentation:<br />\n	&bull\;&nbsp\;Best Overall Ribs and Sauce<br />\n	&bull\;&nbsp\;Best Ribs 1st\, 2nd\, 3rd places<br />\n	&bull\;&nbsp\;Best Sauce 1st\, 2nd\, 3rd places<br />\n	&bull\;&nbsp\;Chef&rsquo\;s Specialty (your favorite creation on the grill- up to 3 entries/team)<br />\n	&bull\;&nbsp\;People&rsquo\;s Choice Award presented at 6:30pm</p>\n<p>\n	THANKS TO OUR TITLE SPONSOR<br />\n	DELOACH\, BARBER &amp\; CASPERS\, P.C.</p>\n<p>\n	Event benefits the Shelby County Arts Council and the South Shelby Chamber of Commerce.&nbsp\; These organizations share the goal of making Shelby County a better place to live and work.</p>\n
LOCATION:Downtown Columbiana
UID:e.145.3925
SEQUENCE:3
DTSTAMP:20260425T115750Z
URL:https://business.shelbychamber.org/events/details/shelby-county-s-best-bbq-03-30-2012-3925
END:VEVENT

END:VCALENDAR
