BEGIN:VCALENDAR
VERSION:2.0
PRODID:-//ChamberMaster//Event Calendar 2.0//EN
METHOD:PUBLISH
X-PUBLISHED-TTL:P3D
REFRESH-INTERVAL:P3D
CALSCALE:GREGORIAN
BEGIN:VEVENT
DTSTART:20120330T110000Z
DTEND:20120331T000000Z
X-MICROSOFT-CDO-ALLDAYEVENT:FALSE
SUMMARY:Shelby County's Best BBQ Cook Off
DESCRIPTION:Join us for Shelby County's Best BBQ Cook-Off in downtown Columbiana on March 30..  Teams will compete for Best Ribs\, Best Sauce\, and Best Chef's Specialty.  3pm-7pm enjoy music\, car show\, Fences on Parade art exhibit\,  and space bounce\, all free and fun.  BBQ awards at 4:30pm\, BBQ tasting 5pm-7pm.  Tasting tickets are $10.00.  Children 10 and under free with paid adult. \n\n\n\nPre-order Boston Butts for pickup after 5pm at the Cook Off.  Order online at www.shelbycountyartscouncil.com\, click on store\, email terri@shelbycountyartscouncil.com or call 669-0044.  Butts are $30.\n\n\n\nEvent benefits Shelby County Arts Council and South Shelby Chamber of Commerce. thanks to our title sponsor\,  Deloach\, Barber and Caspers.
X-ALT-DESC;FMTTYPE=text/html:Join us for Shelby County&#39\;s Best BBQ Cook-Off in downtown Columbiana on March 30..&nbsp\; Teams will compete for Best Ribs\, Best Sauce\, and Best Chef&#39\;s Specialty.&nbsp\; 3pm-7pm enjoy music\, car show\, Fences on Parade art exhibit\,&nbsp\; and space bounce\, all free and fun.&nbsp\; BBQ awards at 4:30pm\, BBQ tasting 5pm-7pm.&nbsp\; Tasting tickets are $10.00.&nbsp\; Children 10 and under free with paid adult.&nbsp\;<br />\n<br />\nPre-order Boston Butts for pickup after 5pm at the Cook Off.&nbsp\; Order online at www.shelbycountyartscouncil.com\, click on store\, email terri@shelbycountyartscouncil.com or call 669-0044.&nbsp\; Butts are $30.<br />\n<br />\nEvent benefits Shelby County Arts Council and South Shelby Chamber of Commerce. thanks to our title sponsor\,&nbsp\; Deloach\, Barber and Caspers.
LOCATION:Downtown Columbiana
UID:e.145.3948
SEQUENCE:3
DTSTAMP:20260425T102410Z
URL:https://business.shelbychamber.org/events/details/shelby-county-s-best-bbq-cook-off-03-30-2012-3948
END:VEVENT

END:VCALENDAR
