BEGIN:VCALENDAR
VERSION:2.0
PRODID:-//ChamberMaster//Event Calendar 2.0//EN
METHOD:PUBLISH
X-PUBLISHED-TTL:P3D
REFRESH-INTERVAL:P3D
CALSCALE:GREGORIAN
BEGIN:VEVENT
DTSTART:20111020T230000Z
DTEND:20111021T020000Z
X-MICROSOFT-CDO-ALLDAYEVENT:FALSE
SUMMARY:Shelby County Salvation Army 2011 Annual Dinner
DESCRIPTION:Join The Salvation Army of Shelby County as we Celebrate "Others" at our 2011 Annual Dinner!\n\n\n\nMike Kolen\, Auburn graduate and former player for the Miami Dolphins is the keynote speaker.\n\n\n\nOctober 20\, 2011\n\n6:00 pm\n\nPelham Civic Complex\n\n\n\nClick here for a printable RSVP form.\n\n\n\n2011 Advisory Council\n\nShelby County Salvation Army\n\n\n\nAlain Gallet\n\nChairman\n\n\n\nMajor Bob Parker and Captain Kathy Parker\n\n\n\nCorps Officers/AdministrationArea Commanders: Sgts. Andy and Jenny Bailey\n\n\n\nCassandra Coleman\n\nEarl Cunningham\n\nTom Ferguson\n\nDavid Frings\n\nEd Hickman\n\nSusie Kelley\n\nMelvin Murphree\n\nBrent Panell\n\nJoseph Puckett\n\nHubert Rogers\n\nDonna Treslar\n\nTeresa Vick
X-ALT-DESC;FMTTYPE=text/html:Join <strong>The Salvation Army of Shelby County</strong> as we Celebrate &ldquo\;Others&rdquo\; at our 2011 Annual Dinner!<br />\n<br />\nMike Kolen\, Auburn graduate and former player for the Miami Dolphins is the keynote speaker.<br />\n<br />\nOctober 20\, 2011<br />\n6:00 pm<br />\nPelham Civic Complex<br />\n<br />\n<a href="http://cloud.chambermaster.com/userfiles/UserFiles/chambers/145/File/Community%20Events/alabasterrsvp_LR.pdf">Click here for a printable RSVP form.</a><br />\n<br />\n2011 Advisory Council<br />\nShelby County Salvation Army<br />\n<br />\nAlain Gallet<br />\nChairman<br />\n<br />\nMajor Bob Parker and Captain Kathy Parker<br />\n<br />\nCorps Officers/AdministrationArea Commanders: Sgts. Andy and Jenny Bailey<br />\n<br />\nCassandra Coleman<br />\nEarl Cunningham<br />\nTom Ferguson<br />\nDavid Frings<br />\nEd Hickman<br />\nSusie Kelley<br />\nMelvin Murphree<br />\nBrent Panell<br />\nJoseph Puckett<br />\nHubert Rogers<br />\nDonna Treslar<br />\nTeresa Vick<br />\n<br />\n
LOCATION:Pelham Civic Complex 500 Amphitheater Road\, Pelham\, AL 35124
UID:e.145.3530
SEQUENCE:3
DTSTAMP:20260425T200159Z
URL:https://business.shelbychamber.org/events/details/shelby-county-salvation-army-2011-annual-dinner-10-20-2011-3530
END:VEVENT

END:VCALENDAR
