BEGIN:VCALENDAR
VERSION:2.0
PRODID:-//ChamberMaster//Event Calendar 2.0//EN
METHOD:PUBLISH
X-PUBLISHED-TTL:P3D
REFRESH-INTERVAL:P3D
CALSCALE:GREGORIAN
BEGIN:VEVENT
DTSTART:20130426T000000Z
DTEND:20130426T013000Z
X-MICROSOFT-CDO-ALLDAYEVENT:FALSE
SUMMARY:Shelby County Sheriff's Office Citizens Sheriff's Academy
DESCRIPTION:The Shelby County Sheriff's Office will offer a Citizens Sheriff's Academy starting March 7\, 2013. CLICK HERE FOR A PRINTABLE PDF BROCHURE. The Citizens Sheriff's Academy is a 12-week program designed to introduce and educate citizens to the various law enforcement practices and procedures of the Sheriff's Office including criminal investigations\, laws and the court system\, uniform/patrol division\, drug task force\, tactical response unit\, and other special units of the Sheriff's Office.  Included in the program will be a tour of the county jail\, an opportunity to "ride-along" on patrol with a Deputy Sheriff\, and an opportunity to receive basic firearms safety training and use the Sheriff's Office firearms range.\n\n\n\nThe academy is open to anyone 18 years of age or older who lives or works in Shelby County.  Due to the nature of the Academy and the topics/activities presented\, all applicants to the program are subject to a criminal background check and a driver's license check conducted by the Sheriff's Office as a condition for acceptance into the program.  Classes will be held every Thursday evening from 7:00   8:30 p.m. at the Shelby County Sheriff's Office Training Center on McDow Road in Columbiana\, AL.\n\n\n\nClass size is limited to 20 students and there is no registration fee for the program. For Academy registration information visit the Sheriff's Office website at www.myshelbyso.com. For additional information regarding the Academy\, contact Sgt. Russell Bedsole at RBedsole@shelbyso.comor Dr. Richard Dormuth at DDormuth@shelbyso.com
X-ALT-DESC;FMTTYPE=text/html:<span style="font-size:12px\;"><span style="font-family: arial\;">The Shelby County Sheriff&rsquo\;s Office will offer a Citizens Sheriff&rsquo\;s Academy starting March 7\, 2013. <a href="http://cloud.chambermaster.com/userfiles/UserFiles/chambers/145/File/Community%20Events/SCSOCA.pdf">CLICK HERE FOR A PRINTABLE PDF BROCHURE.</a> The Citizens Sheriff&rsquo\;s Academy is a 12-week program designed to introduce and educate citizens to the various law enforcement practices and procedures of the Sheriff&rsquo\;s Office including criminal investigations\, laws and the court system\, uniform/patrol division\, drug task force\, tactical response unit\, and other special units of the Sheriff&rsquo\;s Office.&nbsp\; Included in the program will be a tour of the county jail\, an opportunity to &ldquo\;ride-along&rdquo\; on patrol with a Deputy Sheriff\, and an opportunity to receive basic firearms safety training and use the Sheriff&rsquo\;s Office firearms range.<br />\n<br />\nThe academy is open to anyone 18 years of age or older who lives or works in Shelby County.&nbsp\; Due to the nature of the Academy and the topics/activities presented\, all applicants to the program are subject to a criminal background check and a driver&rsquo\;s license check conducted by the Sheriff&rsquo\;s Office as a condition for acceptance into the program.&nbsp\; Classes will be held every Thursday evening from 7:00 &ndash\; 8:30 p.m. at the Shelby County Sheriff&rsquo\;s Office Training Center on McDow Road in Columbiana\, AL.<br />\n<br />\nClass size is limited to 20 students and there is no registration fee for the program. For Academy registration information visit the Sheriff&rsquo\;s Office website at <a href="http://www.myshelbyso.com">www.myshelbyso.com</a>. For additional information regarding the Academy\, contact Sgt. Russell Bedsole at <a href="mailto:RBedsole@shelbyso.com">RBedsole@shelbyso.com</a>or Dr. Richard Dormuth at <a href="mailto:DDormuth@shelbyso.com">DDormuth@shelbyso.com</a></span></span>
LOCATION:Shelby County Sheriff's Office\, 380 McDow Road\, Columbiana\, AL 35051
UID:e.145.4493
SEQUENCE:3
DTSTAMP:20260424T134711Z
URL:https://business.shelbychamber.org/events/details/shelby-county-sheriff-s-office-citizens-sheriff-s-academy-04-25-2013-4493
END:VEVENT

END:VCALENDAR
