BEGIN:VCALENDAR
VERSION:2.0
PRODID:-//ChamberMaster//Event Calendar 2.0//EN
METHOD:PUBLISH
X-PUBLISHED-TTL:P3D
REFRESH-INTERVAL:P3D
CALSCALE:GREGORIAN
BEGIN:VEVENT
DTSTART:20150429T200000Z
DTEND:20150429T204500Z
X-MICROSOFT-CDO-ALLDAYEVENT:FALSE
SUMMARY:Shelby County Sheriff's Office Internet Safe Search Program
DESCRIPTION:A Shelby County Sheriff Officer will present a program on how to stay protect yourself and your family when using the Internet. Compliance with the Child Internet Safety Protection Act and Public Libraries of Shelby County Internet Acceptable Use Policy will be discussed.
X-ALT-DESC;FMTTYPE=text/html:A Shelby County Sheriff Officer will present a program on how to stay protect yourself and your family when using the Internet. Compliance with the Child Internet Safety Protection Act and Public Libraries of Shelby County Internet Acceptable Use Policy will be discussed.
LOCATION:Mildred B. Harrison Regional Library Meeting Room
UID:e.145.7645
SEQUENCE:3
DTSTAMP:20260423T002931Z
URL:https://business.shelbychamber.org/events/details/shelby-county-sheriff-s-office-internet-safe-search-program-04-29-2015-7645
END:VEVENT

END:VCALENDAR
