BEGIN:VCALENDAR
VERSION:2.0
PRODID:-//ChamberMaster//Event Calendar 2.0//EN
METHOD:PUBLISH
X-PUBLISHED-TTL:P3D
REFRESH-INTERVAL:P3D
CALSCALE:GREGORIAN
BEGIN:VEVENT
DTSTART:20160716T180000Z
DTEND:20160717T000000Z
X-MICROSOFT-CDO-ALLDAYEVENT:FALSE
SUMMARY:Shelby County Shindig BBQ Cookoff
DESCRIPTION:Join the Shelby County Arts Council for a fun filled day of great BBQ\, music\, and activities for the kids all on Main street in Columbiana. BBQ teams come together to compete to see who is the best around all while supporting the programs of the Shelby County Arts Council and the South Shelby Chamber of Commerce Scholarship fund. Tickets are $10 to enter the event and participate in the BBQ tasting and $5 to enter event only. Join us for some family fun all while supporting a great cause!
X-ALT-DESC;FMTTYPE=text/html:Join the Shelby County Arts Council for a fun filled day of great BBQ\, music\, and activities for the kids all on Main street in Columbiana. BBQ teams come together to compete to see who is the best around all while supporting the programs of the Shelby County Arts Council and the South Shelby Chamber of Commerce Scholarship fund. Tickets are $10 to enter the event and participate in the BBQ tasting and $5 to enter event only. Join us for some family fun all while supporting a great cause!
LOCATION:Shelby County Arts Council\, Columbiana\, AL
UID:e.145.9639
SEQUENCE:3
DTSTAMP:20260422T012203Z
URL:https://business.shelbychamber.org/events/details/shelby-county-shindig-bbq-cookoff-07-16-2016-9639
END:VEVENT

END:VCALENDAR
