BEGIN:VCALENDAR
VERSION:2.0
PRODID:-//ChamberMaster//Event Calendar 2.0//EN
METHOD:PUBLISH
X-PUBLISHED-TTL:P3D
REFRESH-INTERVAL:P3D
CALSCALE:GREGORIAN
BEGIN:VEVENT
DTSTART:20160723T230000Z
DTEND:20160724T020000Z
X-MICROSOFT-CDO-ALLDAYEVENT:FALSE
SUMMARY:Shelby Humane Society Bark & Wine
DESCRIPTION:Shelby Humane Society Board of Directors invites you to attend the 7th Annual Bark & Wine. Come party for the pups and toast to some kittens! Bark & Wine will be Saturday\, July 23rd from 6:00 - 9:00 pm at Greystone Country Club in Hoover. The evening includes complimentary beer & wine\, a strolling dinner\, silent & live auction and program highlighting the successes of our animal shelter. Shelby Humane Society is an open-admission animal shelter that cares for over 5\,000 lost\, homeless & unwanted pets each year. Corporate & individual sponsorship opportunities available. Items requested for auction.
X-ALT-DESC;FMTTYPE=text/html:Shelby Humane Society Board of Directors invites you to attend the 7th Annual Bark &amp\; Wine. Come party for the pups and toast to some kittens! Bark &amp\; Wine will be Saturday\, July 23rd from 6:00 - 9:00 pm at Greystone Country Club in Hoover. The evening includes complimentary beer &amp\; wine\, a strolling dinner\, silent &amp\; live auction and program highlighting the successes of our animal shelter. Shelby Humane Society is an open-admission animal shelter that cares for over 5\,000 lost\, homeless &amp\; unwanted pets each year. Corporate &amp\; individual sponsorship opportunities available. Items requested for auction.
LOCATION:Greystone Country Club
UID:e.145.9633
SEQUENCE:3
DTSTAMP:20260422T011928Z
URL:https://business.shelbychamber.org/events/details/shelby-humane-society-bark-wine-07-23-2016-9633
END:VEVENT

END:VCALENDAR
