BEGIN:VCALENDAR
VERSION:2.0
PRODID:-//ChamberMaster//Event Calendar 2.0//EN
METHOD:PUBLISH
X-PUBLISHED-TTL:P3D
REFRESH-INTERVAL:P3D
CALSCALE:GREGORIAN
BEGIN:VEVENT
DTSTART:20161008T133000Z
DTEND:20161008T160000Z
X-MICROSOFT-CDO-ALLDAYEVENT:FALSE
SUMMARY:Shelby Humane Society Paws for the Cause 5K and 1 Mile Fun Run/Dog Walk
DESCRIPTION:Shelby Humane Society is the only open-admission animal shelter in Shelby County.  We care for over 5\,000 lost\, homeless & unwanted pets each year.  We rely on fundraisers such as Paws for the Cause to perform our life-saving mission. \n\nHeld Saturday\, October 8th - Paws for the Cause is a certified 5k off-road cross-country race through the beautiful Veterans Park in Hoover.  The course takes you on a path through the park around the lake and through tree-lined trails surrounding the park.\n\nThe Kid Fun Run and 1 Mile Pet Walk allows children to explore the park and you to show off your dogs while they are getting some exercise too!  All dogs that participate will receive a special prize.\n\nRegister by September 15th for price discounts\, a technical running shirt and be entered into a drawing for a $100 gift certificate from Pampered Pet Resort!\n\nRace packet pick-up will be scheduled the week of event at Trak Shak on Highway 280 - more details TBA to registrants.\n\nPlease note to save costs we do not administer chip timing devices.
X-ALT-DESC;FMTTYPE=text/html:<p>Shelby Humane Society is the only open-admission animal shelter in Shelby County.&nbsp\; We care for over 5\,000 lost\, homeless &amp\; unwanted pets each year. &nbsp\;We rely on fundraisers such as Paws for the Cause to perform our life-saving mission.&nbsp\;</p>\n\n<p>Held Saturday\, October 8th - Paws for the Cause is a certified 5k off-road cross-country race through the beautiful Veterans Park in Hoover. &nbsp\;The course takes you on a path through the park around the lake and through tree-lined trails surrounding the park.</p>\n\n<p>The Kid Fun Run and 1 Mile Pet Walk allows children to explore the park and you to show off your dogs while they are getting some exercise too! &nbsp\;All dogs that participate will receive a special prize.</p>\n\n<p>Register by September 15th for price discounts\, a technical running shirt and be entered into a drawing for a $100 gift certificate from Pampered Pet Resort!</p>\n\n<p>Race packet pick-up will be scheduled the week of event at Trak Shak on Highway 280 - more details TBA to registrants.</p>\n\n<p><em><strong>Please note to save costs we do not administer chip timing devices.</strong></em></p>\n
LOCATION:4750 Valleydale Road Birmingham Veteran's Park Hoover
UID:e.145.9715
SEQUENCE:3
DTSTAMP:20260421T165425Z
URL:https://business.shelbychamber.org/events/details/shelby-humane-society-paws-for-the-cause-5k-and-1-mile-fun-run-dog-walk-10-08-2016-9715
END:VEVENT

END:VCALENDAR
