BEGIN:VCALENDAR
VERSION:2.0
PRODID:-//ChamberMaster//Event Calendar 2.0//EN
METHOD:PUBLISH
X-PUBLISHED-TTL:P3D
REFRESH-INTERVAL:P3D
CALSCALE:GREGORIAN
BEGIN:VEVENT
DTSTART:20161001T140000Z
DTEND:20161001T190000Z
X-MICROSOFT-CDO-ALLDAYEVENT:FALSE
SUMMARY:Shelby Humane Society's 10th Annual Bark in the Park
DESCRIPTION:Join SHS for the 10th Annual Bark in the Park! Join us and enjoy things like:\n\n	Animal Blessing\n	Birmingham Air Dogs\n	Lots of Vendors\n	Food Vendors\n	Low-Cost Vaccine Clinic\n	Lots of Adoptable Dogs\n\nWe will be awarding prizes for:\n\n\n	Weinie Dog Race\n	Costume Contest\n	Pet Trick Contest
X-ALT-DESC;FMTTYPE=text/html:Join SHS for the 10th Annual Bark in the Park! Join us and enjoy things like:\n<ul>\n	<li>Animal Blessing</li>\n	<li>Birmingham Air Dogs</li>\n	<li>Lots of Vendors</li>\n	<li>Food Vendors</li>\n	<li>Low-Cost Vaccine Clinic</li>\n	<li>Lots of Adoptable Dogs</li>\n</ul>\n<u><strong>We will be awarding prizes for:</strong></u>\n\n<ul>\n	<li>Weinie Dog Race</li>\n	<li>Costume Contest</li>\n	<li>Pet Trick Contest</li>\n</ul>\n
LOCATION:Veteran's Park - Alabaster 7305 Highway 119 Alabaster
UID:e.145.9733
SEQUENCE:3
DTSTAMP:20260421T183443Z
URL:https://business.shelbychamber.org/events/details/shelby-humane-society-s-10th-annual-bark-in-the-park-9733
END:VEVENT

END:VCALENDAR
