BEGIN:VCALENDAR
VERSION:2.0
PRODID:-//ChamberMaster//Event Calendar 2.0//EN
METHOD:PUBLISH
X-PUBLISHED-TTL:P3D
REFRESH-INTERVAL:P3D
CALSCALE:GREGORIAN
BEGIN:VEVENT
DTSTART:20151003T140000Z
DTEND:20151003T190000Z
X-MICROSOFT-CDO-ALLDAYEVENT:FALSE
SUMMARY:Shelby Humane Society's Bark in the Park
DESCRIPTION:You don't want to miss Bark in the Park!  Shelby Humane Society's Bark in the Park is the family-friendly and dog-friendly event to be at this fall!  Located at Veterans Park in Alabaster on October 3\, Bark in the Park will feature adoption booths where you can find adorable pups looking for new homes\, vendor booths where you can find the coolest products and educational activities where you can learn the latest and greatest techniques for you and your pet.\n\nPlus kids activities\, live music and treats for both you and your dogs!\n\n \n\nBark in the Park's schedule will include (times subject to change):\n\n9:00 am -  Bark in the Park opens\n\n10:00 am - Vaccine Clinic with Microchipping opens\n\n10:00 am - Training demonstration\n\n10:45 am - Animal Blessing with the Episcopal Church of St. Francis of Assisi\n\n11:00 am - Mutt Strut Pawrade \n\n12:00 pm - Pet Trick and Costume contests - Enter your pet onsite for a chance to win prizes!\n\n12:30 pm - Training demonstration\n\n1:00 pm - Vaccine Clinic closes\n\n2:00 pm - Bark in the Park ends\n\n \n\nPlus:\n\n\n	K-9 Demonstrations\n	Pet Photos by Adam McLean\n	Auburn vs. Alabama Fundraiser Dogs\n	Pet ID Tags\n	Live Music\n	Food & Treats (for you and your dog!)\n	Kids Activities\n	And more!\n\nShelby Humane Society is the only animal shelter in Shelby County.  We care for over 5\,000 animals each year.
X-ALT-DESC;FMTTYPE=text/html:<p>You don&#39\;t want to miss Bark in the Park!&nbsp\; Shelby Humane Society&#39\;s Bark in the Park is the family-friendly and dog-friendly event to be at this fall!&nbsp\; Located at Veterans Park in Alabaster on October 3\, Bark in the Park will feature adoption booths where you can find adorable pups looking for new homes\, vendor booths where you can find the coolest products and educational activities where you can learn the latest and greatest techniques for you and your pet.</p>\n\n<p>Plus kids activities\, live music and treats for both you and your dogs!<br />\n&nbsp\;</p>\n\n<p><strong>Bark in the Park&#39\;s schedule will include (times subject to change):</strong></p>\n\n<p>9:00 am -&nbsp\; Bark in the Park opens</p>\n\n<p>10:00 am - Vaccine Clinic with Microchipping opens</p>\n\n<p>10:00 am - Training demonstration</p>\n\n<p>10:45 am - Animal Blessing with the Episcopal Church of St. Francis of Assisi</p>\n\n<p>11:00 am - Mutt Strut Pawrade&nbsp\;</p>\n\n<p>12:00 pm - Pet Trick and Costume contests - Enter your pet onsite for a chance to win prizes!</p>\n\n<p>12:30 pm - Training demonstration</p>\n\n<p>1:00 pm - Vaccine Clinic closes</p>\n\n<p>2:00 pm - Bark in the Park ends<br />\n&nbsp\;</p>\n\n<p>Plus:</p>\n\n<ul>\n	<li>K-9 Demonstrations</li>\n	<li>Pet Photos by Adam McLean</li>\n	<li>Auburn vs. Alabama Fundraiser Dogs</li>\n	<li>Pet ID Tags</li>\n	<li>Live Music</li>\n	<li>Food &amp\; Treats (for you and your dog!)</li>\n	<li>Kids Activities</li>\n	<li>And more!</li>\n</ul>\nShelby Humane Society is the only animal shelter in Shelby County. &nbsp\;We care for over 5\,000 animals each year.&nbsp\;
LOCATION:Veterans Park Alabaster
UID:e.145.7873
SEQUENCE:3
DTSTAMP:20260422T171338Z
URL:https://business.shelbychamber.org/events/details/shelby-humane-society-s-bark-in-the-park-10-03-2015-7873
END:VEVENT

END:VCALENDAR
