BEGIN:VCALENDAR
VERSION:2.0
PRODID:-//ChamberMaster//Event Calendar 2.0//EN
METHOD:PUBLISH
X-PUBLISHED-TTL:P3D
REFRESH-INTERVAL:P3D
CALSCALE:GREGORIAN
BEGIN:VEVENT
DTSTART;VALUE=DATE:20120406
DTEND;VALUE=DATE:20120407
TRANSP:TRANSPARENT
X-MICROSOFT-CDO-ALLDAYEVENT:TRUE
SUMMARY:Shelby Humane Society's Collared Shirt Day is BACK!
DESCRIPTION:Shelby Humane Society's Collared Shirt Day is BACK!\n\n\n\nMark your calendars for Friday\, May 6\, 2011 to have the best t-shirt yet!\n\n\n\nWhen:  Friday\, May 6\, 2011 (orders are due to Jenny Miller by April 22nd)\n\n\n\nWhy:    To support the pets of SHS and have an incredible shirt to wear! AND to get an incredible 20% off Sanpeggio pizza on May 6th.\n\n\n\nInvestment:    $15\n\n\n\nClick here to view an image of this year's shirt.  Click here for an order form!\n\n\n\nThank you for all that you do for Shelby Humane Society and its pets!\n\n\n\nPlease let me know if you or your business plans to support Collared Shirt Day 2011! I would like to get a running list of supporters!\n\n\n\nKind regards\,\n\nJenny\n\n\n\nJenny M. Miller\n\nExecutive Director\n\n669-3916 ext. 36\n\nwww.shelbyhumane.org\n\n\n\nSHS Volunteer Orientation will be held May 7th from 10-12pm or 1-3pm at the North Shelby Library. Reserve your space today by emailing Jenny Miller!
X-ALT-DESC;FMTTYPE=text/html:<strong>Shelby Humane Society&rsquo\;s Collared Shirt Day is BACK!</strong><br />\n<br />\nMark your calendars for Friday\, May 6\, 2011 to have the best t-shirt yet!<br />\n<br />\nWhen:&nbsp\; Friday\, May 6\, 2011 (orders are due to Jenny Miller by April 22nd)<br />\n<br />\nWhy:&nbsp\;&nbsp\;&nbsp\; To support the pets of SHS and have an incredible shirt to wear! AND to get an incredible 20% off Sanpeggio pizza on May 6th.<br />\n<br />\nInvestment:&nbsp\;&nbsp\;&nbsp\; $15<br />\n<br />\n<a href="http://cloud.chambermaster.com/userfiles/UserFiles/chambers/145/File/Community%20Events/csd2011.pdf">Click here to view an image of this year&rsquo\;s shirt</a>.&nbsp\; <a href="http://cloud.chambermaster.com/userfiles/UserFiles/chambers/145/File/Community%20Events/2011%20CSD%20Order%20Form.doc">Click here for an order form</a>!<br />\n<br />\nThank you for all that you do for <a href="http://www.shelbyhumane.org/">Shelby Humane Society</a> and its pets!<br />\n<br />\nPlease let me know if you or your business plans to support Collared Shirt Day 2011! I would like to get a running list of supporters!<br />\n<br />\nKind regards\,<br />\nJenny<br />\n<br />\n<a href="mailto:JENNY.MILLER@SHELBYAL.COM?subject=Collard%20Shirt%20Day&amp\;body=Participation%20or%20request%20for%20more%20information.">Jenny M. Miller</a><br />\nExecutive Director<br />\n669-3916 ext. 36<br />\n<a href="http://www.shelbyhumane.org/">www.shelbyhumane.org</a><br />\n<br />\nSHS Volunteer Orientation will be held May 7th from 10-12pm or 1-3pm at the <a href="http://www.northshelbylibrary.org/">North Shelby Library</a>. Reserve your space today by emailing Jenny Miller!
LOCATION:Your place of business for selling shirts for Collared Shirt Day for the Shelby Humane Society. If you are interested in being a volunteer: SHS Volunteer Orientation will be held May 7th from 10-12pm or 1-3pm at the North Shelby Library. Reserve your space today by emailing Jenny Miller!
UID:e.145.3360
SEQUENCE:3
DTSTAMP:20260425T101955Z
URL:https://business.shelbychamber.org/events/details/shelby-humane-society-s-collared-shirt-day-is-back-04-06-2012-3360
END:VEVENT

END:VCALENDAR
