BEGIN:VCALENDAR
VERSION:2.0
PRODID:-//ChamberMaster//Event Calendar 2.0//EN
METHOD:PUBLISH
X-PUBLISHED-TTL:P3D
REFRESH-INTERVAL:P3D
CALSCALE:GREGORIAN
BEGIN:VEVENT
DTSTART;VALUE=DATE:20131012
DTEND;VALUE=DATE:20131014
TRANSP:TRANSPARENT
X-MICROSOFT-CDO-ALLDAYEVENT:TRUE
SUMMARY:Shelby Iron Park's Fall Festival
DESCRIPTION:SHELBY IRON PARK'S FALL FESTIVAL\n\n\n\nSaturday & Sunday\, October 12th-13th\, 2013\n\n\n\nEvents Include:\n\n\n\nTractors and Parade!\n\nMusic - Saturday: Last Chance Band  --  Sunday: Gospel & Country!\n\nShelby Sorghum Syrup -- You don't want to miss this! Come watch us grind and cook!\n\nAntique Vehicles!\n\nBlacksmith Demonstrations!\n\nIron Works Museum!\n\nHay Rides & Train Ride!\n\nSawmill Demonstrations!\n\nRaffles: Quilt\, Gift Basket\, Fresh Cane Syrup and More!\n\nVendors: Antiques\, Knickknacks\, Crafts & More! (Vendor spaces available!)\n\n\n\nCountry Cookin'\n\nThe Kitchen will be open\, serving our famous hamburgers\, hotdogs\, butterbeans and turnip greens! Also\, don't miss our almost-famous boiled peanuts! Come early\, and enjoy a pancake breakfast\, 7a-10a\, $5 plate all-you-can-eat!\n\n\n\nFREE ADMISSION!\n\nBring your favorite chair and stay a while! \n\n\n\n\n\nEvent Flyer:  http://shelby.ehclients.com/images/fall_festival_flyer_2013.pdf
X-ALT-DESC;FMTTYPE=text/html:SHELBY IRON PARK&#39\;S FALL FESTIVAL<br />\n<br />\nSaturday &amp\; Sunday\, October 12th-13th\, 2013<br />\n<br />\nEvents Include:<br />\n<br />\nTractors and Parade!<br />\nMusic - Saturday: Last Chance Band&nbsp\; --&nbsp\; Sunday: Gospel &amp\; Country!<br />\nShelby Sorghum Syrup -- You don&#39\;t want to miss this! Come watch us grind and cook!<br />\nAntique Vehicles!<br />\nBlacksmith Demonstrations!<br />\nIron Works Museum!<br />\nHay&nbsp\;Rides &amp\; Train Ride!<br />\nSawmill Demonstrations!<br />\nRaffles: Quilt\, Gift Basket\, Fresh Cane Syrup and More!<br />\nVendors: Antiques\, Knickknacks\, Crafts &amp\; More! (Vendor spaces available!)<br />\n<br />\nCountry Cookin&#39\;<br />\nThe Kitchen will be open\, serving our famous hamburgers\, hotdogs\, butterbeans and turnip greens! Also\, don&rsquo\;t miss our almost-famous boiled peanuts! Come early\, and enjoy a pancake breakfast\, 7a-10a\, $5 plate all-you-can-eat!<br />\n<br />\nFREE ADMISSION!<br />\nBring your favorite chair and stay a while!&nbsp\;<br />\n<br />\n<br />\nEvent Flyer:&nbsp\;&nbsp\;<a href="http://shelby.ehclients.com/images/fall_festival_flyer_2013.pdf">http://shelby.ehclients.com/images/fall_festival_flyer_2013.pdf</a>
LOCATION:Shelby Iron Park
UID:e.145.4742
SEQUENCE:3
DTSTAMP:20260424T033559Z
URL:https://business.shelbychamber.org/events/details/shelby-iron-park-s-fall-festival-10-12-2013-4742
END:VEVENT

END:VCALENDAR
