BEGIN:VCALENDAR
VERSION:2.0
PRODID:-//ChamberMaster//Event Calendar 2.0//EN
METHOD:PUBLISH
X-PUBLISHED-TTL:P3D
REFRESH-INTERVAL:P3D
CALSCALE:GREGORIAN
BEGIN:VEVENT
DTSTART:20140703T170000Z
DTEND:20140703T170000Z
X-MICROSOFT-CDO-ALLDAYEVENT:FALSE
SUMMARY:Shelby Living Best of the Best Contest
DESCRIPTION:Make sure to vote in Shelby Living's fourth annual Best of the Best contest!!Voting begins June 25 and ends July 31. Winners will be announced in the October issue of the magazine. http://shelbyliving.com/bestofthebest/
X-ALT-DESC;FMTTYPE=text/html:Make sure to vote in Shelby Living&#39\;s fourth annual Best of the Best contest!!Voting begins June 25 and ends July 31. Winners will be announced in the October issue of the magazine. <a href="http://shelbyliving.com/bestofthebest/">http://shelbyliving.com/bestofthebest/</a>
LOCATION:Online
UID:e.145.5789
SEQUENCE:3
DTSTAMP:20260423T133932Z
URL:https://business.shelbychamber.org/events/details/shelby-living-best-of-the-best-contest-07-03-2014-5789
END:VEVENT

END:VCALENDAR
