BEGIN:VCALENDAR
VERSION:2.0
PRODID:-//ChamberMaster//Event Calendar 2.0//EN
METHOD:PUBLISH
X-PUBLISHED-TTL:P3D
REFRESH-INTERVAL:P3D
CALSCALE:GREGORIAN
BEGIN:VEVENT
DTSTART:20130106T190000Z
DTEND:20130106T220000Z
X-MICROSOFT-CDO-ALLDAYEVENT:FALSE
SUMMARY:Shelby Living Bridal Show
DESCRIPTION:The Shelby Living Bridal Show is the event for brides-to-be in Shelby County and surrounding areas. Complete with local wedding vendors\, a fashion show and fantastic giveaways\, the Shelby Living Bridal Show is a must-attend event.\n\n\n\nThe show will be held at the Cahaba Grand Conference Center\, 3660 Grandview Parkway\, Birmingham\, on Sunday\, Jan. 6 from 1-4 p.m.\n\n\n\nDozens of local wedding vendors will be available at booth spaces throughout the day to answer questions\, give information and show samples of their work. Vendors include florists\, venues\, photographers\, bakeries\, caterers and more.\n\n\n\nA runway fashion show\, sponsored by Bella Couture of Mt Laurel\, will begin at 3:30 p.m. featuring 2013 bridal gown trends\, including color\, lace\, beading and more. Featured designers include Lazaro\, Tara Keely\, Justin Alexander\, Modeca and Allure. Mr. Burch Formal Wear will also give a presentation of 2013 tuxedo and suit options.\n\n\n\nRegistration is $5 at the door. The first 200 brides to arrive will receive a Shelby Living Bridal Show tote and vendor giveaways. For more information\, contact Katie McDowell at Katie.mcdowell@shelbyliving.com or call 669.3131.
X-ALT-DESC;FMTTYPE=text/html:The Shelby Living Bridal Show is the event for brides-to-be in Shelby County and surrounding areas. Complete with local wedding vendors\, a fashion show and fantastic giveaways\, the Shelby Living Bridal Show is a must-attend event.<br />\n<br />\nThe show will be held at the Cahaba Grand Conference Center\, 3660 Grandview Parkway\, Birmingham\, on Sunday\, Jan. 6 from 1-4 p.m.<br />\n<br />\nDozens of local wedding vendors will be available at booth spaces throughout the day to answer questions\, give information and show samples of their work. Vendors include florists\, venues\, photographers\, bakeries\, caterers and more.<br />\n<br />\nA runway fashion show\, sponsored by Bella Couture of Mt Laurel\, will begin at 3:30 p.m. featuring 2013 bridal gown trends\, including color\, lace\, beading and more. Featured designers include Lazaro\, Tara Keely\, Justin Alexander\, Modeca and Allure. Mr. Burch Formal Wear will also give a presentation of 2013 tuxedo and suit options.<br />\n<br />\nRegistration is $5 at the door. The first 200 brides to arrive will receive a Shelby Living Bridal Show tote and vendor giveaways. For more information\, contact Katie McDowell at <a href="mailto:Katie.mcdowell@shelbyliving.com">Katie.mcdowell@shelbyliving.com</a> or call 669.3131.
LOCATION:Cahaba Grand Conference Center\, 3660 Grandview Parkway\, Birmingham
UID:e.145.4441
SEQUENCE:3
DTSTAMP:20260424T184149Z
URL:https://business.shelbychamber.org/events/details/shelby-living-bridal-show-01-06-2013-4441
END:VEVENT

END:VCALENDAR
