BEGIN:VCALENDAR
VERSION:2.0
PRODID:-//ChamberMaster//Event Calendar 2.0//EN
METHOD:PUBLISH
X-PUBLISHED-TTL:P3D
REFRESH-INTERVAL:P3D
CALSCALE:GREGORIAN
BEGIN:VEVENT
DTSTART:20120920T220000Z
DTEND:20120921T003000Z
X-MICROSOFT-CDO-ALLDAYEVENT:FALSE
SUMMARY:Shelby Oral Facial Surgery Open House and Ribbon Cutting
DESCRIPTION:Oral & Maxillofacial Surgeons\, N. Ryan Livingston\, DMD\, MD \, and Joshua E. Everts\, DDS\, MD \, practice the full scope of Oral and Maxillofacial Surgery with expertise ranging from corrective jaw surgery to wisdom tooth removal. The doctors can also diagnose and treat facial injuries requiring reconstructive surgery\, corrective sleep apnea surgery and perform a full range of dental implant and bone grafting procedures. Shelby Oral Facial Sugery's staff is trained in assisting with I.V. sedation within our state of the art office facility.\n\n\n\nPlease join us to meet and network with local dental and medical professionals. There will be food and drinks available as well as a tour of the brand new facility.
X-ALT-DESC;FMTTYPE=text/html:Oral &amp\; Maxillofacial Surgeons\, <u>N. Ryan Livingston</u>\, DMD\, MD \, and <u>Joshua E. Everts</u>\, DDS\, MD \, practice the full scope of Oral and Maxillofacial Surgery with expertise ranging from corrective jaw surgery to wisdom tooth removal. The doctors can also diagnose and treat facial injuries requiring reconstructive surgery\, corrective sleep apnea surgery and perform a full range of dental implant and bone grafting procedures.&nbsp\;Shelby Oral Facial Sugery&rsquo\;s staff is trained in assisting with I.V. sedation within our state of the art office facility.<br />\n<br />\nPlease join us to meet and network with local dental and medical professionals. There will be food and drinks available as well as a tour of the brand new facility.
LOCATION:420 1st Street North\, Alabaster AL 35007
UID:e.145.4368
SEQUENCE:3
DTSTAMP:20260425T011507Z
URL:https://business.shelbychamber.org/events/details/shelby-oral-facial-surgery-open-house-and-ribbon-cutting-09-20-2012-4368
END:VEVENT

END:VCALENDAR
